Back to Multiple platform build/check report for BioC 3.14
A[B]CDEFGHIJKLMNOPQRSTUVWXYZ

This page was generated on 2022-01-17 13:07:20 -0500 (Mon, 17 Jan 2022).

HostnameOSArch (*)R versionInstalled pkgs
nebbiolo2Linux (Ubuntu 20.04.4 LTS)x86_644.1.2 (2021-11-01) -- "Bird Hippie" 4328
tokay2Windows Server 2012 R2 Standardx644.1.2 (2021-11-01) -- "Bird Hippie" 4077
machv2macOS 10.14.6 Mojavex86_644.1.2 (2021-11-01) -- "Bird Hippie" 4138
Click on any hostname to see more info about the system (e.g. compilers)      (*) as reported by 'uname -p', except on Windows and Mac OS X

BUILD BIN results for BiFET on machv2


To the developers/maintainers of the BiFET package:
- Please allow up to 24 hours (and sometimes 48 hours) for your latest push to git@git.bioconductor.org:packages/BiFET.git to
reflect on this report. See How and When does the builder pull? When will my changes propagate? here for more information.
- Make sure to use the following settings in order to reproduce any error or warning you see on this page.

raw results

Package 146/2083HostnameOS / ArchINSTALLBUILDCHECKBUILD BIN
BiFET 1.14.0  (landing page)
Ahrim Youn
Snapshot Date: 2022-01-16 01:55:05 -0500 (Sun, 16 Jan 2022)
git_url: https://git.bioconductor.org/packages/BiFET
git_branch: RELEASE_3_14
git_last_commit: 13e7cc7
git_last_commit_date: 2021-10-26 12:40:59 -0500 (Tue, 26 Oct 2021)
nebbiolo2Linux (Ubuntu 20.04.4 LTS) / x86_64  OK    OK    OK  UNNEEDED, same version is already published
tokay2Windows Server 2012 R2 Standard / x64  OK    OK    OK    OK  UNNEEDED, same version is already published
machv2macOS 10.14.6 Mojave / x86_64  OK    OK    OK    OK  UNNEEDED, same version is already published

Summary

Package: BiFET
Version: 1.14.0
Command: rm -rf BiFET.buildbin-libdir && mkdir BiFET.buildbin-libdir && /Users/biocbuild/BBS/utils/build-universal.sh BiFET_1.14.0.tar.gz /Library/Frameworks/R.framework/Resources/bin/R BiFET.buildbin-libdir
StartedAt: 2022-01-16 19:57:36 -0500 (Sun, 16 Jan 2022)
EndedAt: 2022-01-16 19:57:55 -0500 (Sun, 16 Jan 2022)
EllapsedTime: 18.6 seconds
RetCode: 0
Status:   OK  
PackageFile: BiFET_1.14.0.tgz
PackageFileSize: 747.8 KiB

Command output

##############################################################################
##############################################################################
###
### Running command:
###
###   rm -rf BiFET.buildbin-libdir && mkdir BiFET.buildbin-libdir && /Users/biocbuild/BBS/utils/build-universal.sh BiFET_1.14.0.tar.gz /Library/Frameworks/R.framework/Resources/bin/R BiFET.buildbin-libdir
###
##############################################################################
##############################################################################


>>>>>>> 
>>>>>>> INSTALLATION WITH 'R CMD INSTALL --preclean --no-multiarch --library=BiFET.buildbin-libdir BiFET_1.14.0.tar.gz'
>>>>>>> 

* installing *source* package ‘BiFET’ ...
** using staged installation
** R
** inst
** byte-compile and prepare package for lazy loading
** help
*** installing help indices
** building package indices
** installing vignettes
** testing if installed package can be loaded from temporary location
** testing if installed package can be loaded from final location
** testing if installed package keeps a record of temporary installation path
* DONE (BiFET)