Back to Multiple platform build/check report for BioC 3.14
A[B]CDEFGHIJKLMNOPQRSTUVWXYZ

This page was generated on 2022-01-21 13:04:52 -0500 (Fri, 21 Jan 2022).

HostnameOSArch (*)R versionInstalled pkgs
nebbiolo2Linux (Ubuntu 20.04.4 LTS)x86_644.1.2 (2021-11-01) -- "Bird Hippie" 4329
tokay2Windows Server 2012 R2 Standardx644.1.2 (2021-11-01) -- "Bird Hippie" 4079
machv2macOS 10.14.6 Mojavex86_644.1.2 (2021-11-01) -- "Bird Hippie" 4140
Click on any hostname to see more info about the system (e.g. compilers)      (*) as reported by 'uname -p', except on Windows and Mac OS X

CHECK results for Basic4Cseq on nebbiolo2


To the developers/maintainers of the Basic4Cseq package:
- Please allow up to 24 hours (and sometimes 48 hours) for your latest push to git@git.bioconductor.org:packages/Basic4Cseq.git to
reflect on this report. See How and When does the builder pull? When will my changes propagate? here for more information.
- Make sure to use the following settings in order to reproduce any error or warning you see on this page.

raw results

Package 117/2083HostnameOS / ArchINSTALLBUILDCHECKBUILD BIN
Basic4Cseq 1.30.0  (landing page)
Carolin Walter
Snapshot Date: 2022-01-20 01:55:04 -0500 (Thu, 20 Jan 2022)
git_url: https://git.bioconductor.org/packages/Basic4Cseq
git_branch: RELEASE_3_14
git_last_commit: feb01cf
git_last_commit_date: 2021-10-26 12:12:12 -0500 (Tue, 26 Oct 2021)
nebbiolo2Linux (Ubuntu 20.04.4 LTS) / x86_64  OK    OK    OK  UNNEEDED, same version is already published
tokay2Windows Server 2012 R2 Standard / x64  OK    OK    OK    OK  UNNEEDED, same version is already published
machv2macOS 10.14.6 Mojave / x86_64  OK    OK    OK    OK  UNNEEDED, same version is already published

Summary

Package: Basic4Cseq
Version: 1.30.0
Command: /home/biocbuild/bbs-3.14-bioc/R/bin/R CMD check --install=check:Basic4Cseq.install-out.txt --library=/home/biocbuild/bbs-3.14-bioc/R/library --no-vignettes --timings Basic4Cseq_1.30.0.tar.gz
StartedAt: 2022-01-20 06:23:13 -0500 (Thu, 20 Jan 2022)
EndedAt: 2022-01-20 06:26:45 -0500 (Thu, 20 Jan 2022)
EllapsedTime: 212.7 seconds
RetCode: 0
Status:   OK  
CheckDir: Basic4Cseq.Rcheck
Warnings: 0

Command output

##############################################################################
##############################################################################
###
### Running command:
###
###   /home/biocbuild/bbs-3.14-bioc/R/bin/R CMD check --install=check:Basic4Cseq.install-out.txt --library=/home/biocbuild/bbs-3.14-bioc/R/library --no-vignettes --timings Basic4Cseq_1.30.0.tar.gz
###
##############################################################################
##############################################################################


* using log directory ‘/home/biocbuild/bbs-3.14-bioc/meat/Basic4Cseq.Rcheck’
* using R version 4.1.2 (2021-11-01)
* using platform: x86_64-pc-linux-gnu (64-bit)
* using session charset: UTF-8
* using option ‘--no-vignettes’
* checking for file ‘Basic4Cseq/DESCRIPTION’ ... OK
* checking extension type ... Package
* this is package ‘Basic4Cseq’ version ‘1.30.0’
* checking package namespace information ... OK
* checking package dependencies ... OK
* checking if this is a source package ... OK
* checking if there is a namespace ... OK
* checking for hidden files and directories ... OK
* checking for portable file names ... OK
* checking for sufficient/correct file permissions ... OK
* checking whether package ‘Basic4Cseq’ can be installed ... OK
* checking installed package size ... OK
* checking package directory ... OK
* checking ‘build’ directory ... OK
* checking DESCRIPTION meta-information ... OK
* checking top-level files ... OK
* checking for left-over files ... OK
* checking index information ... OK
* checking package subdirectories ... OK
* checking R files for non-ASCII characters ... OK
* checking R files for syntax errors ... OK
* checking whether the package can be loaded ... OK
* checking whether the package can be loaded with stated dependencies ... OK
* checking whether the package can be unloaded cleanly ... OK
* checking whether the namespace can be loaded with stated dependencies ... OK
* checking whether the namespace can be unloaded cleanly ... OK
* checking dependencies in R code ... OK
* checking S3 generic/method consistency ... OK
* checking replacement functions ... OK
* checking foreign function calls ... OK
* checking R code for possible problems ... OK
* checking Rd files ... OK
* checking Rd metadata ... OK
* checking Rd cross-references ... OK
* checking for missing documentation entries ... OK
* checking for code/documentation mismatches ... OK
* checking Rd \usage sections ... OK
* checking Rd contents ... OK
* checking for unstated dependencies in examples ... OK
* checking contents of ‘data’ directory ... OK
* checking data for non-ASCII characters ... OK
* checking data for ASCII and uncompressed saves ... OK
* checking files in ‘vignettes’ ... OK
* checking examples ... OK
Examples with CPU (user + system) or elapsed time > 5s
                  user system elapsed
readsToFragments 4.526  2.535   7.062
* checking for unstated dependencies in vignettes ... OK
* checking package vignettes in ‘inst/doc’ ... OK
* checking running R code from vignettes ... SKIPPED
* checking re-building of vignette outputs ... SKIPPED
* checking PDF version of manual ... OK
* DONE

Status: OK


Installation output

Basic4Cseq.Rcheck/00install.out

##############################################################################
##############################################################################
###
### Running command:
###
###   /home/biocbuild/bbs-3.14-bioc/R/bin/R CMD INSTALL Basic4Cseq
###
##############################################################################
##############################################################################


* installing to library ‘/home/biocbuild/bbs-3.14-bioc/R/library’
* installing *source* package ‘Basic4Cseq’ ...
** using staged installation
** R
** data
** inst
** byte-compile and prepare package for lazy loading
** help
*** installing help indices
** building package indices
** installing vignettes
** testing if installed package can be loaded from temporary location
** testing if installed package can be loaded from final location
** testing if installed package keeps a record of temporary installation path
* DONE (Basic4Cseq)

Tests output


Example timings

Basic4Cseq.Rcheck/Basic4Cseq-Ex.timings

nameusersystemelapsed
Data4Cseq-class0.0010.0000.001
Data4Cseq0.0790.0000.080
checkRestrictionEnzymeSequence000
chooseNearCisFragments0.0090.0000.010
createVirtualFragmentLibrary000
drawDigestionFragmentHistogram0.0050.0000.005
drawHeatmap000
exportVisualizationFragmentData000
getReadDistribution0.1540.0400.195
giveEnzymeSequence0.0020.0000.001
importVisualizationFragmentData0.0060.0000.006
liverData0.0030.0000.002
liverDataRaw0.0000.0020.002
normalizeFragmentData0.0040.0010.005
plotTransInteractions0.0000.0000.001
prepare4CseqData000
printBEDFragmentLibrary000
printWigFile000
readPointsOfInterestFile0.0000.0020.002
readsToFragments4.5262.5357.062
simulateDigestion0.0020.0000.002
visualizeViewpoint0.0390.0000.038