Back to Multiple platform build/check report for BioC 3.14
A[B]CDEFGHIJKLMNOPQRSTUVWXYZ

This page was generated on 2022-01-21 13:06:02 -0500 (Fri, 21 Jan 2022).

HostnameOSArch (*)R versionInstalled pkgs
nebbiolo2Linux (Ubuntu 20.04.4 LTS)x86_644.1.2 (2021-11-01) -- "Bird Hippie" 4329
tokay2Windows Server 2012 R2 Standardx644.1.2 (2021-11-01) -- "Bird Hippie" 4079
machv2macOS 10.14.6 Mojavex86_644.1.2 (2021-11-01) -- "Bird Hippie" 4140
Click on any hostname to see more info about the system (e.g. compilers)      (*) as reported by 'uname -p', except on Windows and Mac OS X

BUILD BIN results for BLMA on tokay2


To the developers/maintainers of the BLMA package:
- Please allow up to 24 hours (and sometimes 48 hours) for your latest push to git@git.bioconductor.org:packages/BLMA.git to
reflect on this report. See How and When does the builder pull? When will my changes propagate? here for more information.
- Make sure to use the following settings in order to reproduce any error or warning you see on this page.

raw results

Package 203/2083HostnameOS / ArchINSTALLBUILDCHECKBUILD BIN
BLMA 1.18.0  (landing page)
Hung Nguyen
Snapshot Date: 2022-01-20 01:55:04 -0500 (Thu, 20 Jan 2022)
git_url: https://git.bioconductor.org/packages/BLMA
git_branch: RELEASE_3_14
git_last_commit: f5e4a71
git_last_commit_date: 2021-10-26 12:34:52 -0500 (Tue, 26 Oct 2021)
nebbiolo2Linux (Ubuntu 20.04.4 LTS) / x86_64  OK    OK    OK  UNNEEDED, same version is already published
tokay2Windows Server 2012 R2 Standard / x64  OK    OK    OK    OK  UNNEEDED, same version is already published
machv2macOS 10.14.6 Mojave / x86_64  OK    OK    OK    OK  UNNEEDED, same version is already published

Summary

Package: BLMA
Version: 1.18.0
Command: rm -rf BLMA.buildbin-libdir && mkdir BLMA.buildbin-libdir && C:\Users\biocbuild\bbs-3.14-bioc\R\bin\R.exe CMD INSTALL --merge-multiarch --build --library=BLMA.buildbin-libdir BLMA_1.18.0.tar.gz
StartedAt: 2022-01-21 05:40:14 -0500 (Fri, 21 Jan 2022)
EndedAt: 2022-01-21 05:40:53 -0500 (Fri, 21 Jan 2022)
EllapsedTime: 39.1 seconds
RetCode: 0
Status:   OK  
PackageFile: BLMA_1.18.0.zip
PackageFileSize: 2.807 MiB

Command output

##############################################################################
##############################################################################
###
### Running command:
###
###   rm -rf BLMA.buildbin-libdir && mkdir BLMA.buildbin-libdir && C:\Users\biocbuild\bbs-3.14-bioc\R\bin\R.exe CMD INSTALL --merge-multiarch --build --library=BLMA.buildbin-libdir BLMA_1.18.0.tar.gz
###
##############################################################################
##############################################################################



install for i386

* installing *source* package 'BLMA' ...
** using staged installation
** R
** data
** inst
** byte-compile and prepare package for lazy loading
** help
*** installing help indices
  converting help for package 'BLMA'
    finding HTML links ... done
    GSE17054                                html  
    GSE33223                                html  
    GSE42140                                html  
    GSE57194                                html  
    addCLT                                  html  
    bilevelAnalysisClassic                  html  
    bilevelAnalysisGene                     html  
    bilevelAnalysisGeneset                  html  
    finding level-2 HTML links ... done

    bilevelAnalysisPathway                  html  
    fisherMethod                            html  
    getStatistics                           html  
    intraAnalysisClassic                    html  
    intraAnalysisGene                       html  
    loadKEGGPathways                        html  
    pORACalc                                html  
    stoufferMethod                          html  
** building package indices
** installing vignettes
** testing if installed package can be loaded from temporary location
** testing if installed package can be loaded from final location
** testing if installed package keeps a record of temporary installation path

install for x64

* installing *source* package 'BLMA' ...
** testing if installed package can be loaded
* MD5 sums
packaged installation of 'BLMA' as BLMA_1.18.0.zip
* DONE (BLMA)