Back to Multiple platform build/check report for BioC 3.14
A[B]CDEFGHIJKLMNOPQRSTUVWXYZ

This page was generated on 2022-01-17 13:07:19 -0500 (Mon, 17 Jan 2022).

HostnameOSArch (*)R versionInstalled pkgs
nebbiolo2Linux (Ubuntu 20.04.4 LTS)x86_644.1.2 (2021-11-01) -- "Bird Hippie" 4328
tokay2Windows Server 2012 R2 Standardx644.1.2 (2021-11-01) -- "Bird Hippie" 4077
machv2macOS 10.14.6 Mojavex86_644.1.2 (2021-11-01) -- "Bird Hippie" 4138
Click on any hostname to see more info about the system (e.g. compilers)      (*) as reported by 'uname -p', except on Windows and Mac OS X

CHECK results for BGmix on machv2


To the developers/maintainers of the BGmix package:
- Please allow up to 24 hours (and sometimes 48 hours) for your latest push to git@git.bioconductor.org:packages/BGmix.git to
reflect on this report. See How and When does the builder pull? When will my changes propagate? here for more information.
- Make sure to use the following settings in order to reproduce any error or warning you see on this page.

raw results

Package 142/2083HostnameOS / ArchINSTALLBUILDCHECKBUILD BIN
BGmix 1.54.0  (landing page)
Alex Lewin
Snapshot Date: 2022-01-16 01:55:05 -0500 (Sun, 16 Jan 2022)
git_url: https://git.bioconductor.org/packages/BGmix
git_branch: RELEASE_3_14
git_last_commit: 0750c98
git_last_commit_date: 2021-10-26 11:51:44 -0500 (Tue, 26 Oct 2021)
nebbiolo2Linux (Ubuntu 20.04.4 LTS) / x86_64  OK    OK    WARNINGS  UNNEEDED, same version is already published
tokay2Windows Server 2012 R2 Standard / x64... NOT SUPPORTED ...
machv2macOS 10.14.6 Mojave / x86_64  OK    OK    OK    OK  UNNEEDED, same version is already published

Summary

Package: BGmix
Version: 1.54.0
Command: /Library/Frameworks/R.framework/Resources/bin/R CMD check --install=check:BGmix.install-out.txt --library=/Library/Frameworks/R.framework/Resources/library --no-vignettes --timings BGmix_1.54.0.tar.gz
StartedAt: 2022-01-16 10:31:14 -0500 (Sun, 16 Jan 2022)
EndedAt: 2022-01-16 10:32:25 -0500 (Sun, 16 Jan 2022)
EllapsedTime: 71.1 seconds
RetCode: 0
Status:   OK  
CheckDir: BGmix.Rcheck
Warnings: 0

Command output

##############################################################################
##############################################################################
###
### Running command:
###
###   /Library/Frameworks/R.framework/Resources/bin/R CMD check --install=check:BGmix.install-out.txt --library=/Library/Frameworks/R.framework/Resources/library --no-vignettes --timings BGmix_1.54.0.tar.gz
###
##############################################################################
##############################################################################


* using log directory ‘/Users/biocbuild/bbs-3.14-bioc/meat/BGmix.Rcheck’
* using R version 4.1.2 (2021-11-01)
* using platform: x86_64-apple-darwin17.0 (64-bit)
* using session charset: UTF-8
* using option ‘--no-vignettes’
* checking for file ‘BGmix/DESCRIPTION’ ... OK
* checking extension type ... Package
* this is package ‘BGmix’ version ‘1.54.0’
* checking package namespace information ... OK
* checking package dependencies ... OK
* checking if this is a source package ... OK
* checking if there is a namespace ... OK
* checking for hidden files and directories ... NOTE
Found the following hidden files and directories:
  .BBSoptions
These were most likely included in error. See section ‘Package
structure’ in the ‘Writing R Extensions’ manual.
* checking for portable file names ... OK
* checking for sufficient/correct file permissions ... OK
* checking whether package ‘BGmix’ can be installed ... OK
* checking installed package size ... OK
* checking package directory ... OK
* checking ‘build’ directory ... OK
* checking DESCRIPTION meta-information ... NOTE
Malformed Description field: should contain one or more complete sentences.
* checking top-level files ... OK
* checking for left-over files ... OK
* checking index information ... OK
* checking package subdirectories ... OK
* checking R files for non-ASCII characters ... OK
* checking R files for syntax errors ... OK
* checking whether the package can be loaded ... OK
* checking whether the package can be loaded with stated dependencies ... OK
* checking whether the package can be unloaded cleanly ... OK
* checking whether the namespace can be loaded with stated dependencies ... OK
* checking whether the namespace can be unloaded cleanly ... OK
* checking dependencies in R code ... OK
* checking S3 generic/method consistency ... OK
* checking replacement functions ... OK
* checking foreign function calls ... OK
* checking R code for possible problems ... NOTE
EstimatePi0: no visible global function definition for ‘median’
EstimatePi0: no visible global function definition for ‘abline’
SimulateFromNull: no visible global function definition for ‘rt’
SimulateFromNull: no visible global function definition for ‘rgamma’
SimulateFromNull: no visible global function definition for ‘pnorm’
TailPP: no visible global function definition for ‘par’
TailPPCalculate: no visible global function definition for ‘qnorm’
histTailPP: no visible global function definition for ‘hist’
histTailPP: no visible global function definition for ‘lines’
histTailPP: no visible global function definition for ‘density’
plotBasic: no visible global function definition for ‘par’
plotCompare: no visible global function definition for ‘plot.default’
plotCompare: no visible global function definition for ‘abline’
plotFDR: no visible global function definition for ‘abline’
plotFDR: no visible global function definition for ‘legend’
plotMixDensity: no visible global function definition for ‘par’
plotMixDensity: no visible global function definition for ‘hist’
plotMixDensity: no visible global function definition for ‘lines’
plotMixDensity: no visible global function definition for ‘density’
plotPredChecks: no visible global function definition for ‘hist’
plotPredChecks: no visible global function definition for ‘abline’
plotTrace: no visible global function definition for ‘par’
plotTrace: no visible global function definition for ‘dev.cur’
plotTrace: no visible global function definition for ‘X11’
Undefined global functions or variables:
  X11 abline density dev.cur hist legend lines median par plot.default
  pnorm qnorm rgamma rt
Consider adding
  importFrom("grDevices", "X11", "dev.cur")
  importFrom("graphics", "abline", "hist", "legend", "lines", "par",
             "plot.default")
  importFrom("stats", "density", "median", "pnorm", "qnorm", "rgamma",
             "rt")
to your NAMESPACE file.
* checking Rd files ... OK
* checking Rd metadata ... OK
* checking Rd cross-references ... OK
* checking for missing documentation entries ... OK
* checking for code/documentation mismatches ... OK
* checking Rd \usage sections ... OK
* checking Rd contents ... OK
* checking for unstated dependencies in examples ... OK
* checking contents of ‘data’ directory ... OK
* checking data for non-ASCII characters ... OK
* checking data for ASCII and uncompressed saves ... OK
* checking line endings in shell scripts ... OK
* checking line endings in C/C++/Fortran sources/headers ... OK
* checking line endings in Makefiles ... OK
* checking compilation flags in Makevars ... NOTE
Package has both ‘src/Makevars.in’ and ‘src/Makevars’.
Installation with --no-configure' is unlikely to work.  If you intended
‘src/Makevars’ to be used on Windows, rename it to ‘src/Makevars.win’
otherwise remove it.  If ‘configure’ created ‘src/Makevars’, you need a
‘cleanup’ script.
* checking for GNU extensions in Makefiles ... OK
* checking for portable use of $(BLAS_LIBS) and $(LAPACK_LIBS) ... OK
* checking use of PKG_*FLAGS in Makefiles ... NOTE
   PKG_CFLAGS set in ‘src/Makevars.win’ without any corresponding files
* checking compiled code ... NOTE
Note: information on .o files is not available
File ‘/Library/Frameworks/R.framework/Versions/4.1/Resources/library/BGmix/libs/BGmix.so’:
  Found ‘__ZNSt3__14cerrE’, possibly from ‘std::cerr’ (C++)

Compiled code should not call entry points which might terminate R nor
write to stdout/stderr instead of to the console, nor use Fortran I/O
nor system RNGs. The detected symbols are linked into the code but
might come from libraries and not actually be called.

See ‘Writing portable packages’ in the ‘Writing R Extensions’ manual.
* checking sizes of PDF files under ‘inst/doc’ ... OK
* checking files in ‘vignettes’ ... OK
* checking examples ... OK
Examples with CPU (user + system) or elapsed time > 5s
              user system elapsed
FDRforTailPP 6.843  0.394   7.244
BGmix        5.147  0.230   5.390
* checking for unstated dependencies in vignettes ... OK
* checking package vignettes in ‘inst/doc’ ... OK
* checking running R code from vignettes ... SKIPPED
* checking re-building of vignette outputs ... SKIPPED
* checking PDF version of manual ... OK
* DONE

Status: 6 NOTEs
See
  ‘/Users/biocbuild/bbs-3.14-bioc/meat/BGmix.Rcheck/00check.log’
for details.



Installation output

BGmix.Rcheck/00install.out

##############################################################################
##############################################################################
###
### Running command:
###
###   /Library/Frameworks/R.framework/Resources/bin/R CMD INSTALL BGmix
###
##############################################################################
##############################################################################


* installing to library ‘/Library/Frameworks/R.framework/Versions/4.1/Resources/library’
* installing *source* package ‘BGmix’ ...
** using staged installation
checking for gcc... clang -mmacosx-version-min=10.13
checking for C compiler default output file name... a.out
checking whether the C compiler works... yes
checking whether we are cross compiling... no
checking for suffix of executables... 
checking for suffix of object files... o
checking whether we are using the GNU C compiler... yes
checking whether clang -mmacosx-version-min=10.13 accepts -g... yes
checking for clang -mmacosx-version-min=10.13 option to accept ISO C89... none needed
checking for clang -mmacosx-version-min=10.13 option to accept ISO C99... none needed
checking for cos in -lm... yes
Untarring Boost header files...
checking for an ANSI C-conforming const... yes
checking for inline... inline
configure: creating ./config.status
config.status: creating src/Makevars
** libs
clang++ -mmacosx-version-min=10.13 -std=gnu++14 -I"/Library/Frameworks/R.framework/Resources/include" -DNDEBUG -I ../boostIncl  -I/usr/local/include   -fPIC  -Wall -g -O2  -DUSING_R -c BGmix_main.cpp -o BGmix_main.o
In file included from BGmix_main.cpp:25:
In file included from ./updates_BGmix.h:1:
In file included from ./rand.hh:32:
In file included from ../boostIncl/boost/random.hpp:36:
In file included from ../boostIncl/boost/random/linear_congruential.hpp:25:
../boostIncl/boost/random/detail/const_mod.hpp:148:5: warning: unused typedef 'boost_static_assert_typedef_148' [-Wunused-local-typedef]
    BOOST_STATIC_ASSERT(m > 0);
    ^
../boostIncl/boost/static_assert.hpp:105:10: note: expanded from macro 'BOOST_STATIC_ASSERT'
         BOOST_JOIN(boost_static_assert_typedef_, __LINE__)
         ^
../boostIncl/boost/config/suffix.hpp:521:28: note: expanded from macro 'BOOST_JOIN'
#define BOOST_JOIN( X, Y ) BOOST_DO_JOIN( X, Y )
                           ^
../boostIncl/boost/config/suffix.hpp:522:31: note: expanded from macro 'BOOST_DO_JOIN'
#define BOOST_DO_JOIN( X, Y ) BOOST_DO_JOIN2(X,Y)
                              ^
../boostIncl/boost/config/suffix.hpp:523:32: note: expanded from macro 'BOOST_DO_JOIN2'
#define BOOST_DO_JOIN2( X, Y ) X##Y
                               ^
<scratch space>:123:1: note: expanded from here
boost_static_assert_typedef_148
^
In file included from BGmix_main.cpp:25:
In file included from ./updates_BGmix.h:1:
In file included from ./rand.hh:32:
In file included from ../boostIncl/boost/random.hpp:36:
In file included from ../boostIncl/boost/random/linear_congruential.hpp:25:
../boostIncl/boost/random/detail/const_mod.hpp:152:5: warning: unused typedef 'boost_static_assert_typedef_152' [-Wunused-local-typedef]
    BOOST_STATIC_ASSERT(boost::integer_traits<IntType>::is_signed);
    ^
../boostIncl/boost/static_assert.hpp:105:10: note: expanded from macro 'BOOST_STATIC_ASSERT'
         BOOST_JOIN(boost_static_assert_typedef_, __LINE__)
         ^
../boostIncl/boost/config/suffix.hpp:521:28: note: expanded from macro 'BOOST_JOIN'
#define BOOST_JOIN( X, Y ) BOOST_DO_JOIN( X, Y )
                           ^
../boostIncl/boost/config/suffix.hpp:522:31: note: expanded from macro 'BOOST_DO_JOIN'
#define BOOST_DO_JOIN( X, Y ) BOOST_DO_JOIN2(X,Y)
                              ^
../boostIncl/boost/config/suffix.hpp:523:32: note: expanded from macro 'BOOST_DO_JOIN2'
#define BOOST_DO_JOIN2( X, Y ) X##Y
                               ^
<scratch space>:125:1: note: expanded from here
boost_static_assert_typedef_152
^
In file included from BGmix_main.cpp:25:
In file included from ./updates_BGmix.h:1:
In file included from ./rand.hh:32:
In file included from ../boostIncl/boost/random.hpp:36:
../boostIncl/boost/random/linear_congruential.hpp:63:5: warning: unused typedef 'boost_static_assert_typedef_63' [-Wunused-local-typedef]
    BOOST_STATIC_ASSERT(std::numeric_limits<IntType>::is_integer);
    ^
../boostIncl/boost/static_assert.hpp:105:10: note: expanded from macro 'BOOST_STATIC_ASSERT'
         BOOST_JOIN(boost_static_assert_typedef_, __LINE__)
         ^
../boostIncl/boost/config/suffix.hpp:521:28: note: expanded from macro 'BOOST_JOIN'
#define BOOST_JOIN( X, Y ) BOOST_DO_JOIN( X, Y )
                           ^
../boostIncl/boost/config/suffix.hpp:522:31: note: expanded from macro 'BOOST_DO_JOIN'
#define BOOST_DO_JOIN( X, Y ) BOOST_DO_JOIN2(X,Y)
                              ^
../boostIncl/boost/config/suffix.hpp:523:32: note: expanded from macro 'BOOST_DO_JOIN2'
#define BOOST_DO_JOIN2( X, Y ) X##Y
                               ^
<scratch space>:127:1: note: expanded from here
boost_static_assert_typedef_63
^
In file included from BGmix_main.cpp:25:
In file included from ./updates_BGmix.h:1:
In file included from ./rand.hh:32:
In file included from ../boostIncl/boost/random.hpp:38:
../boostIncl/boost/random/inversive_congruential.hpp:50:5: warning: unused typedef 'boost_static_assert_typedef_50' [-Wunused-local-typedef]
    BOOST_STATIC_ASSERT(b >= 0);
    ^
../boostIncl/boost/static_assert.hpp:105:10: note: expanded from macro 'BOOST_STATIC_ASSERT'
         BOOST_JOIN(boost_static_assert_typedef_, __LINE__)
         ^
../boostIncl/boost/config/suffix.hpp:521:28: note: expanded from macro 'BOOST_JOIN'
#define BOOST_JOIN( X, Y ) BOOST_DO_JOIN( X, Y )
                           ^
../boostIncl/boost/config/suffix.hpp:522:31: note: expanded from macro 'BOOST_DO_JOIN'
#define BOOST_DO_JOIN( X, Y ) BOOST_DO_JOIN2(X,Y)
                              ^
../boostIncl/boost/config/suffix.hpp:523:32: note: expanded from macro 'BOOST_DO_JOIN2'
#define BOOST_DO_JOIN2( X, Y ) X##Y
                               ^
<scratch space>:129:1: note: expanded from here
boost_static_assert_typedef_50
^
In file included from BGmix_main.cpp:25:
In file included from ./updates_BGmix.h:1:
In file included from ./rand.hh:32:
In file included from ../boostIncl/boost/random.hpp:38:
../boostIncl/boost/random/inversive_congruential.hpp:51:5: warning: unused typedef 'boost_static_assert_typedef_51' [-Wunused-local-typedef]
    BOOST_STATIC_ASSERT(p > 1);
    ^
../boostIncl/boost/static_assert.hpp:105:10: note: expanded from macro 'BOOST_STATIC_ASSERT'
         BOOST_JOIN(boost_static_assert_typedef_, __LINE__)
         ^
../boostIncl/boost/config/suffix.hpp:521:28: note: expanded from macro 'BOOST_JOIN'
#define BOOST_JOIN( X, Y ) BOOST_DO_JOIN( X, Y )
                           ^
../boostIncl/boost/config/suffix.hpp:522:31: note: expanded from macro 'BOOST_DO_JOIN'
#define BOOST_DO_JOIN( X, Y ) BOOST_DO_JOIN2(X,Y)
                              ^
../boostIncl/boost/config/suffix.hpp:523:32: note: expanded from macro 'BOOST_DO_JOIN2'
#define BOOST_DO_JOIN2( X, Y ) X##Y
                               ^
<scratch space>:131:1: note: expanded from here
boost_static_assert_typedef_51
^
In file included from BGmix_main.cpp:25:
In file included from ./updates_BGmix.h:1:
In file included from ./rand.hh:32:
In file included from ../boostIncl/boost/random.hpp:38:
../boostIncl/boost/random/inversive_congruential.hpp:52:5: warning: unused typedef 'boost_static_assert_typedef_52' [-Wunused-local-typedef]
    BOOST_STATIC_ASSERT(a >= 1);
    ^
../boostIncl/boost/static_assert.hpp:105:10: note: expanded from macro 'BOOST_STATIC_ASSERT'
         BOOST_JOIN(boost_static_assert_typedef_, __LINE__)
         ^
../boostIncl/boost/config/suffix.hpp:521:28: note: expanded from macro 'BOOST_JOIN'
#define BOOST_JOIN( X, Y ) BOOST_DO_JOIN( X, Y )
                           ^
../boostIncl/boost/config/suffix.hpp:522:31: note: expanded from macro 'BOOST_DO_JOIN'
#define BOOST_DO_JOIN( X, Y ) BOOST_DO_JOIN2(X,Y)
                              ^
../boostIncl/boost/config/suffix.hpp:523:32: note: expanded from macro 'BOOST_DO_JOIN2'
#define BOOST_DO_JOIN2( X, Y ) X##Y
                               ^
<scratch space>:133:1: note: expanded from here
boost_static_assert_typedef_52
^
In file included from BGmix_main.cpp:25:
In file included from ./updates_BGmix.h:1:
In file included from ./rand.hh:32:
In file included from ../boostIncl/boost/random.hpp:39:
../boostIncl/boost/random/shuffle_output.hpp:124:5: warning: unused typedef 'boost_static_assert_typedef_124' [-Wunused-local-typedef]
    BOOST_STATIC_ASSERT(std::numeric_limits<result_type>::is_integer);
    ^
../boostIncl/boost/static_assert.hpp:105:10: note: expanded from macro 'BOOST_STATIC_ASSERT'
         BOOST_JOIN(boost_static_assert_typedef_, __LINE__)
         ^
../boostIncl/boost/config/suffix.hpp:521:28: note: expanded from macro 'BOOST_JOIN'
#define BOOST_JOIN( X, Y ) BOOST_DO_JOIN( X, Y )
                           ^
../boostIncl/boost/config/suffix.hpp:522:31: note: expanded from macro 'BOOST_DO_JOIN'
#define BOOST_DO_JOIN( X, Y ) BOOST_DO_JOIN2(X,Y)
                              ^
../boostIncl/boost/config/suffix.hpp:523:32: note: expanded from macro 'BOOST_DO_JOIN2'
#define BOOST_DO_JOIN2( X, Y ) X##Y
                               ^
<scratch space>:135:1: note: expanded from here
boost_static_assert_typedef_124
^
In file included from BGmix_main.cpp:25:
In file included from ./updates_BGmix.h:1:
In file included from ./rand.hh:32:
In file included from ../boostIncl/boost/random.hpp:40:
../boostIncl/boost/random/mersenne_twister.hpp:99:5: warning: unused typedef 'boost_static_assert_typedef_99' [-Wunused-local-typedef]
    BOOST_STATIC_ASSERT(!std::numeric_limits<result_type>::is_signed);
    ^
../boostIncl/boost/static_assert.hpp:105:10: note: expanded from macro 'BOOST_STATIC_ASSERT'
         BOOST_JOIN(boost_static_assert_typedef_, __LINE__)
         ^
../boostIncl/boost/config/suffix.hpp:521:28: note: expanded from macro 'BOOST_JOIN'
#define BOOST_JOIN( X, Y ) BOOST_DO_JOIN( X, Y )
                           ^
../boostIncl/boost/config/suffix.hpp:522:31: note: expanded from macro 'BOOST_DO_JOIN'
#define BOOST_DO_JOIN( X, Y ) BOOST_DO_JOIN2(X,Y)
                              ^
../boostIncl/boost/config/suffix.hpp:523:32: note: expanded from macro 'BOOST_DO_JOIN2'
#define BOOST_DO_JOIN2( X, Y ) X##Y
                               ^
<scratch space>:137:1: note: expanded from here
boost_static_assert_typedef_99
^
In file included from BGmix_main.cpp:25:
In file included from ./updates_BGmix.h:1:
In file included from ./rand.hh:32:
In file included from ../boostIncl/boost/random.hpp:42:
In file included from ../boostIncl/boost/random/ranlux.hpp:20:
../boostIncl/boost/random/subtract_with_carry.hpp:83:5: warning: unused typedef 'boost_static_assert_typedef_83' [-Wunused-local-typedef]
    BOOST_STATIC_ASSERT(std::numeric_limits<result_type>::is_signed);
    ^
../boostIncl/boost/static_assert.hpp:105:10: note: expanded from macro 'BOOST_STATIC_ASSERT'
         BOOST_JOIN(boost_static_assert_typedef_, __LINE__)
         ^
../boostIncl/boost/config/suffix.hpp:521:28: note: expanded from macro 'BOOST_JOIN'
#define BOOST_JOIN( X, Y ) BOOST_DO_JOIN( X, Y )
                           ^
../boostIncl/boost/config/suffix.hpp:522:31: note: expanded from macro 'BOOST_DO_JOIN'
#define BOOST_DO_JOIN( X, Y ) BOOST_DO_JOIN2(X,Y)
                              ^
../boostIncl/boost/config/suffix.hpp:523:32: note: expanded from macro 'BOOST_DO_JOIN2'
#define BOOST_DO_JOIN2( X, Y ) X##Y
                               ^
<scratch space>:141:1: note: expanded from here
boost_static_assert_typedef_83
^
In file included from BGmix_main.cpp:25:
In file included from ./updates_BGmix.h:1:
In file included from ./rand.hh:32:
In file included from ../boostIncl/boost/random.hpp:42:
In file included from ../boostIncl/boost/random/ranlux.hpp:20:
../boostIncl/boost/random/subtract_with_carry.hpp:84:5: warning: unused typedef 'boost_static_assert_typedef_84' [-Wunused-local-typedef]
    BOOST_STATIC_ASSERT(std::numeric_limits<result_type>::is_integer);
    ^
../boostIncl/boost/static_assert.hpp:105:10: note: expanded from macro 'BOOST_STATIC_ASSERT'
         BOOST_JOIN(boost_static_assert_typedef_, __LINE__)
         ^
../boostIncl/boost/config/suffix.hpp:521:28: note: expanded from macro 'BOOST_JOIN'
#define BOOST_JOIN( X, Y ) BOOST_DO_JOIN( X, Y )
                           ^
../boostIncl/boost/config/suffix.hpp:522:31: note: expanded from macro 'BOOST_DO_JOIN'
#define BOOST_DO_JOIN( X, Y ) BOOST_DO_JOIN2(X,Y)
                              ^
../boostIncl/boost/config/suffix.hpp:523:32: note: expanded from macro 'BOOST_DO_JOIN2'
#define BOOST_DO_JOIN2( X, Y ) X##Y
                               ^
<scratch space>:143:1: note: expanded from here
boost_static_assert_typedef_84
^
In file included from BGmix_main.cpp:25:
In file included from ./updates_BGmix.h:1:
In file included from ./rand.hh:32:
In file included from ../boostIncl/boost/random.hpp:43:
../boostIncl/boost/random/linear_feedback_shift.hpp:55:5: warning: unused typedef 'boost_static_assert_typedef_55' [-Wunused-local-typedef]
    BOOST_STATIC_ASSERT(std::numeric_limits<UIntType>::is_integer);
    ^
../boostIncl/boost/static_assert.hpp:105:10: note: expanded from macro 'BOOST_STATIC_ASSERT'
         BOOST_JOIN(boost_static_assert_typedef_, __LINE__)
         ^
../boostIncl/boost/config/suffix.hpp:521:28: note: expanded from macro 'BOOST_JOIN'
#define BOOST_JOIN( X, Y ) BOOST_DO_JOIN( X, Y )
                           ^
../boostIncl/boost/config/suffix.hpp:522:31: note: expanded from macro 'BOOST_DO_JOIN'
#define BOOST_DO_JOIN( X, Y ) BOOST_DO_JOIN2(X,Y)
                              ^
../boostIncl/boost/config/suffix.hpp:523:32: note: expanded from macro 'BOOST_DO_JOIN2'
#define BOOST_DO_JOIN2( X, Y ) X##Y
                               ^
<scratch space>:149:1: note: expanded from here
boost_static_assert_typedef_55
^
In file included from BGmix_main.cpp:25:
In file included from ./updates_BGmix.h:1:
In file included from ./rand.hh:32:
In file included from ../boostIncl/boost/random.hpp:43:
../boostIncl/boost/random/linear_feedback_shift.hpp:56:5: warning: unused typedef 'boost_static_assert_typedef_56' [-Wunused-local-typedef]
    BOOST_STATIC_ASSERT(!std::numeric_limits<UIntType>::is_signed);
    ^
../boostIncl/boost/static_assert.hpp:105:10: note: expanded from macro 'BOOST_STATIC_ASSERT'
         BOOST_JOIN(boost_static_assert_typedef_, __LINE__)
         ^
../boostIncl/boost/config/suffix.hpp:521:28: note: expanded from macro 'BOOST_JOIN'
#define BOOST_JOIN( X, Y ) BOOST_DO_JOIN( X, Y )
                           ^
../boostIncl/boost/config/suffix.hpp:522:31: note: expanded from macro 'BOOST_DO_JOIN'
#define BOOST_DO_JOIN( X, Y ) BOOST_DO_JOIN2(X,Y)
                              ^
../boostIncl/boost/config/suffix.hpp:523:32: note: expanded from macro 'BOOST_DO_JOIN2'
#define BOOST_DO_JOIN2( X, Y ) X##Y
                               ^
<scratch space>:151:1: note: expanded from here
boost_static_assert_typedef_56
^
In file included from BGmix_main.cpp:25:
In file included from ./updates_BGmix.h:1:
In file included from ./rand.hh:32:
In file included from ../boostIncl/boost/random.hpp:43:
../boostIncl/boost/random/linear_feedback_shift.hpp:69:5: warning: unused typedef 'boost_static_assert_typedef_69' [-Wunused-local-typedef]
    BOOST_STATIC_ASSERT(std::numeric_limits<UIntType>::is_integer);
    ^
../boostIncl/boost/static_assert.hpp:105:10: note: expanded from macro 'BOOST_STATIC_ASSERT'
         BOOST_JOIN(boost_static_assert_typedef_, __LINE__)
         ^
../boostIncl/boost/config/suffix.hpp:521:28: note: expanded from macro 'BOOST_JOIN'
#define BOOST_JOIN( X, Y ) BOOST_DO_JOIN( X, Y )
                           ^
../boostIncl/boost/config/suffix.hpp:522:31: note: expanded from macro 'BOOST_DO_JOIN'
#define BOOST_DO_JOIN( X, Y ) BOOST_DO_JOIN2(X,Y)
                              ^
../boostIncl/boost/config/suffix.hpp:523:32: note: expanded from macro 'BOOST_DO_JOIN2'
#define BOOST_DO_JOIN2( X, Y ) X##Y
                               ^
<scratch space>:153:1: note: expanded from here
boost_static_assert_typedef_69
^
In file included from BGmix_main.cpp:25:
In file included from ./updates_BGmix.h:1:
In file included from ./rand.hh:32:
In file included from ../boostIncl/boost/random.hpp:43:
../boostIncl/boost/random/linear_feedback_shift.hpp:70:5: warning: unused typedef 'boost_static_assert_typedef_70' [-Wunused-local-typedef]
    BOOST_STATIC_ASSERT(!std::numeric_limits<UIntType>::is_signed);
    ^
../boostIncl/boost/static_assert.hpp:105:10: note: expanded from macro 'BOOST_STATIC_ASSERT'
         BOOST_JOIN(boost_static_assert_typedef_, __LINE__)
         ^
../boostIncl/boost/config/suffix.hpp:521:28: note: expanded from macro 'BOOST_JOIN'
#define BOOST_JOIN( X, Y ) BOOST_DO_JOIN( X, Y )
                           ^
../boostIncl/boost/config/suffix.hpp:522:31: note: expanded from macro 'BOOST_DO_JOIN'
#define BOOST_DO_JOIN( X, Y ) BOOST_DO_JOIN2(X,Y)
                              ^
../boostIncl/boost/config/suffix.hpp:523:32: note: expanded from macro 'BOOST_DO_JOIN2'
#define BOOST_DO_JOIN2( X, Y ) X##Y
                               ^
<scratch space>:155:1: note: expanded from here
boost_static_assert_typedef_70
^
In file included from BGmix_main.cpp:25:
In file included from ./updates_BGmix.h:1:
In file included from ./rand.hh:32:
In file included from ../boostIncl/boost/random.hpp:44:
../boostIncl/boost/random/xor_combine.hpp:67:5: warning: unused typedef 'boost_static_assert_typedef_67' [-Wunused-local-typedef]
    BOOST_STATIC_ASSERT(std::numeric_limits<typename base1_type::result_type>::is_integer);
    ^
../boostIncl/boost/static_assert.hpp:105:10: note: expanded from macro 'BOOST_STATIC_ASSERT'
         BOOST_JOIN(boost_static_assert_typedef_, __LINE__)
         ^
../boostIncl/boost/config/suffix.hpp:521:28: note: expanded from macro 'BOOST_JOIN'
#define BOOST_JOIN( X, Y ) BOOST_DO_JOIN( X, Y )
                           ^
../boostIncl/boost/config/suffix.hpp:522:31: note: expanded from macro 'BOOST_DO_JOIN'
#define BOOST_DO_JOIN( X, Y ) BOOST_DO_JOIN2(X,Y)
                              ^
../boostIncl/boost/config/suffix.hpp:523:32: note: expanded from macro 'BOOST_DO_JOIN2'
#define BOOST_DO_JOIN2( X, Y ) X##Y
                               ^
<scratch space>:157:1: note: expanded from here
boost_static_assert_typedef_67
^
In file included from BGmix_main.cpp:25:
In file included from ./updates_BGmix.h:1:
In file included from ./rand.hh:32:
In file included from ../boostIncl/boost/random.hpp:44:
../boostIncl/boost/random/xor_combine.hpp:68:5: warning: unused typedef 'boost_static_assert_typedef_68' [-Wunused-local-typedef]
    BOOST_STATIC_ASSERT(std::numeric_limits<typename base2_type::result_type>::is_integer);
    ^
../boostIncl/boost/static_assert.hpp:105:10: note: expanded from macro 'BOOST_STATIC_ASSERT'
         BOOST_JOIN(boost_static_assert_typedef_, __LINE__)
         ^
../boostIncl/boost/config/suffix.hpp:521:28: note: expanded from macro 'BOOST_JOIN'
#define BOOST_JOIN( X, Y ) BOOST_DO_JOIN( X, Y )
                           ^
../boostIncl/boost/config/suffix.hpp:522:31: note: expanded from macro 'BOOST_DO_JOIN'
#define BOOST_DO_JOIN( X, Y ) BOOST_DO_JOIN2(X,Y)
                              ^
../boostIncl/boost/config/suffix.hpp:523:32: note: expanded from macro 'BOOST_DO_JOIN2'
#define BOOST_DO_JOIN2( X, Y ) X##Y
                               ^
<scratch space>:159:1: note: expanded from here
boost_static_assert_typedef_68
^
In file included from BGmix_main.cpp:25:
In file included from ./updates_BGmix.h:1:
In file included from ./rand.hh:32:
In file included from ../boostIncl/boost/random.hpp:44:
../boostIncl/boost/random/xor_combine.hpp:69:5: warning: unused typedef 'boost_static_assert_typedef_69' [-Wunused-local-typedef]
    BOOST_STATIC_ASSERT(std::numeric_limits<typename base1_type::result_type>::digits >= std::numeric_limits<typename base2_type::result_type>::digits);
    ^
../boostIncl/boost/static_assert.hpp:105:10: note: expanded from macro 'BOOST_STATIC_ASSERT'
         BOOST_JOIN(boost_static_assert_typedef_, __LINE__)
         ^
../boostIncl/boost/config/suffix.hpp:521:28: note: expanded from macro 'BOOST_JOIN'
#define BOOST_JOIN( X, Y ) BOOST_DO_JOIN( X, Y )
                           ^
../boostIncl/boost/config/suffix.hpp:522:31: note: expanded from macro 'BOOST_DO_JOIN'
#define BOOST_DO_JOIN( X, Y ) BOOST_DO_JOIN2(X,Y)
                              ^
../boostIncl/boost/config/suffix.hpp:523:32: note: expanded from macro 'BOOST_DO_JOIN2'
#define BOOST_DO_JOIN2( X, Y ) X##Y
                               ^
<scratch space>:161:1: note: expanded from here
boost_static_assert_typedef_69
^
In file included from BGmix_main.cpp:25:
In file included from ./updates_BGmix.h:1:
In file included from ./rand.hh:32:
In file included from ../boostIncl/boost/random.hpp:53:
In file included from ../boostIncl/boost/random/random_number_generator.hpp:22:
In file included from ../boostIncl/boost/random/uniform_int.hpp:26:
../boostIncl/boost/random/uniform_smallint.hpp:121:5: warning: unused typedef 'boost_static_assert_typedef_121' [-Wunused-local-typedef]
    BOOST_STATIC_ASSERT(std::numeric_limits<IntType>::is_integer);
    ^
../boostIncl/boost/static_assert.hpp:105:10: note: expanded from macro 'BOOST_STATIC_ASSERT'
         BOOST_JOIN(boost_static_assert_typedef_, __LINE__)
         ^
../boostIncl/boost/config/suffix.hpp:521:28: note: expanded from macro 'BOOST_JOIN'
#define BOOST_JOIN( X, Y ) BOOST_DO_JOIN( X, Y )
                           ^
../boostIncl/boost/config/suffix.hpp:522:31: note: expanded from macro 'BOOST_DO_JOIN'
#define BOOST_DO_JOIN( X, Y ) BOOST_DO_JOIN2(X,Y)
                              ^
../boostIncl/boost/config/suffix.hpp:523:32: note: expanded from macro 'BOOST_DO_JOIN2'
#define BOOST_DO_JOIN2( X, Y ) X##Y
                               ^
<scratch space>:163:1: note: expanded from here
boost_static_assert_typedef_121
^
In file included from BGmix_main.cpp:25:
In file included from ./updates_BGmix.h:1:
In file included from ./rand.hh:32:
In file included from ../boostIncl/boost/random.hpp:53:
In file included from ../boostIncl/boost/random/random_number_generator.hpp:22:
In file included from ../boostIncl/boost/random/uniform_int.hpp:26:
../boostIncl/boost/random/uniform_smallint.hpp:122:5: warning: unused typedef 'boost_static_assert_typedef_122' [-Wunused-local-typedef]
    BOOST_STATIC_ASSERT(!std::numeric_limits<typename base_type::result_type>::is_integer);
    ^
../boostIncl/boost/static_assert.hpp:105:10: note: expanded from macro 'BOOST_STATIC_ASSERT'
         BOOST_JOIN(boost_static_assert_typedef_, __LINE__)
         ^
../boostIncl/boost/config/suffix.hpp:521:28: note: expanded from macro 'BOOST_JOIN'
#define BOOST_JOIN( X, Y ) BOOST_DO_JOIN( X, Y )
                           ^
../boostIncl/boost/config/suffix.hpp:522:31: note: expanded from macro 'BOOST_DO_JOIN'
#define BOOST_DO_JOIN( X, Y ) BOOST_DO_JOIN2(X,Y)
                              ^
../boostIncl/boost/config/suffix.hpp:523:32: note: expanded from macro 'BOOST_DO_JOIN2'
#define BOOST_DO_JOIN2( X, Y ) X##Y
                               ^
<scratch space>:165:1: note: expanded from here
boost_static_assert_typedef_122
^
In file included from BGmix_main.cpp:25:
In file included from ./updates_BGmix.h:1:
In file included from ./rand.hh:32:
In file included from ../boostIncl/boost/random.hpp:53:
In file included from ../boostIncl/boost/random/random_number_generator.hpp:22:
In file included from ../boostIncl/boost/random/uniform_int.hpp:26:
../boostIncl/boost/random/uniform_smallint.hpp:170:5: warning: unused typedef 'boost_static_assert_typedef_170' [-Wunused-local-typedef]
    BOOST_STATIC_ASSERT(std::numeric_limits<IntType>::is_integer);
    ^
../boostIncl/boost/static_assert.hpp:105:10: note: expanded from macro 'BOOST_STATIC_ASSERT'
         BOOST_JOIN(boost_static_assert_typedef_, __LINE__)
         ^
../boostIncl/boost/config/suffix.hpp:521:28: note: expanded from macro 'BOOST_JOIN'
#define BOOST_JOIN( X, Y ) BOOST_DO_JOIN( X, Y )
                           ^
../boostIncl/boost/config/suffix.hpp:522:31: note: expanded from macro 'BOOST_DO_JOIN'
#define BOOST_DO_JOIN( X, Y ) BOOST_DO_JOIN2(X,Y)
                              ^
../boostIncl/boost/config/suffix.hpp:523:32: note: expanded from macro 'BOOST_DO_JOIN2'
#define BOOST_DO_JOIN2( X, Y ) X##Y
                               ^
<scratch space>:167:1: note: expanded from here
boost_static_assert_typedef_170
^
In file included from BGmix_main.cpp:25:
In file included from ./updates_BGmix.h:1:
In file included from ./rand.hh:32:
In file included from ../boostIncl/boost/random.hpp:53:
In file included from ../boostIncl/boost/random/random_number_generator.hpp:22:
../boostIncl/boost/random/uniform_int.hpp:47:5: warning: unused typedef 'boost_static_assert_typedef_47' [-Wunused-local-typedef]
    BOOST_STATIC_ASSERT(std::numeric_limits<IntType>::is_integer);
    ^
../boostIncl/boost/static_assert.hpp:105:10: note: expanded from macro 'BOOST_STATIC_ASSERT'
         BOOST_JOIN(boost_static_assert_typedef_, __LINE__)
         ^
../boostIncl/boost/config/suffix.hpp:521:28: note: expanded from macro 'BOOST_JOIN'
#define BOOST_JOIN( X, Y ) BOOST_DO_JOIN( X, Y )
                           ^
../boostIncl/boost/config/suffix.hpp:522:31: note: expanded from macro 'BOOST_DO_JOIN'
#define BOOST_DO_JOIN( X, Y ) BOOST_DO_JOIN2(X,Y)
                              ^
../boostIncl/boost/config/suffix.hpp:523:32: note: expanded from macro 'BOOST_DO_JOIN2'
#define BOOST_DO_JOIN2( X, Y ) X##Y
                               ^
<scratch space>:169:1: note: expanded from here
boost_static_assert_typedef_47
^
In file included from BGmix_main.cpp:25:
In file included from ./updates_BGmix.h:1:
In file included from ./rand.hh:32:
In file included from ../boostIncl/boost/random.hpp:53:
../boostIncl/boost/random/random_number_generator.hpp:38:5: warning: unused typedef 'boost_static_assert_typedef_38' [-Wunused-local-typedef]
    BOOST_STATIC_ASSERT(std::numeric_limits<result_type>::is_integer);
    ^
../boostIncl/boost/static_assert.hpp:105:10: note: expanded from macro 'BOOST_STATIC_ASSERT'
         BOOST_JOIN(boost_static_assert_typedef_, __LINE__)
         ^
../boostIncl/boost/config/suffix.hpp:521:28: note: expanded from macro 'BOOST_JOIN'
#define BOOST_JOIN( X, Y ) BOOST_DO_JOIN( X, Y )
                           ^
../boostIncl/boost/config/suffix.hpp:522:31: note: expanded from macro 'BOOST_DO_JOIN'
#define BOOST_DO_JOIN( X, Y ) BOOST_DO_JOIN2(X,Y)
                              ^
../boostIncl/boost/config/suffix.hpp:523:32: note: expanded from macro 'BOOST_DO_JOIN2'
#define BOOST_DO_JOIN2( X, Y ) X##Y
                               ^
<scratch space>:171:1: note: expanded from here
boost_static_assert_typedef_38
^
In file included from BGmix_main.cpp:25:
In file included from ./updates_BGmix.h:1:
In file included from ./rand.hh:32:
In file included from ../boostIncl/boost/random.hpp:59:
../boostIncl/boost/random/uniform_real.hpp:41:5: warning: unused typedef 'boost_static_assert_typedef_41' [-Wunused-local-typedef]
    BOOST_STATIC_ASSERT(!std::numeric_limits<RealType>::is_integer);
    ^
../boostIncl/boost/static_assert.hpp:105:10: note: expanded from macro 'BOOST_STATIC_ASSERT'
         BOOST_JOIN(boost_static_assert_typedef_, __LINE__)
         ^
../boostIncl/boost/config/suffix.hpp:521:28: note: expanded from macro 'BOOST_JOIN'
#define BOOST_JOIN( X, Y ) BOOST_DO_JOIN( X, Y )
                           ^
../boostIncl/boost/config/suffix.hpp:522:31: note: expanded from macro 'BOOST_DO_JOIN'
#define BOOST_DO_JOIN( X, Y ) BOOST_DO_JOIN2(X,Y)
                              ^
../boostIncl/boost/config/suffix.hpp:523:32: note: expanded from macro 'BOOST_DO_JOIN2'
#define BOOST_DO_JOIN2( X, Y ) X##Y
                               ^
<scratch space>:173:1: note: expanded from here
boost_static_assert_typedef_41
^
In file included from BGmix_main.cpp:25:
In file included from ./updates_BGmix.h:1:
In file included from ./rand.hh:32:
In file included from ../boostIncl/boost/random.hpp:67:
../boostIncl/boost/random/poisson_distribution.hpp:38:5: warning: unused typedef 'boost_static_assert_typedef_38' [-Wunused-local-typedef]
    BOOST_STATIC_ASSERT(std::numeric_limits<IntType>::is_integer);
    ^
../boostIncl/boost/static_assert.hpp:105:10: note: expanded from macro 'BOOST_STATIC_ASSERT'
         BOOST_JOIN(boost_static_assert_typedef_, __LINE__)
         ^
../boostIncl/boost/config/suffix.hpp:521:28: note: expanded from macro 'BOOST_JOIN'
#define BOOST_JOIN( X, Y ) BOOST_DO_JOIN( X, Y )
                           ^
../boostIncl/boost/config/suffix.hpp:522:31: note: expanded from macro 'BOOST_DO_JOIN'
#define BOOST_DO_JOIN( X, Y ) BOOST_DO_JOIN2(X,Y)
                              ^
../boostIncl/boost/config/suffix.hpp:523:32: note: expanded from macro 'BOOST_DO_JOIN2'
#define BOOST_DO_JOIN2( X, Y ) X##Y
                               ^
<scratch space>:183:1: note: expanded from here
boost_static_assert_typedef_38
^
In file included from BGmix_main.cpp:25:
In file included from ./updates_BGmix.h:1:
In file included from ./rand.hh:32:
In file included from ../boostIncl/boost/random.hpp:67:
../boostIncl/boost/random/poisson_distribution.hpp:39:5: warning: unused typedef 'boost_static_assert_typedef_39' [-Wunused-local-typedef]
    BOOST_STATIC_ASSERT(!std::numeric_limits<RealType>::is_integer);
    ^
../boostIncl/boost/static_assert.hpp:105:10: note: expanded from macro 'BOOST_STATIC_ASSERT'
         BOOST_JOIN(boost_static_assert_typedef_, __LINE__)
         ^
../boostIncl/boost/config/suffix.hpp:521:28: note: expanded from macro 'BOOST_JOIN'
#define BOOST_JOIN( X, Y ) BOOST_DO_JOIN( X, Y )
                           ^
../boostIncl/boost/config/suffix.hpp:522:31: note: expanded from macro 'BOOST_DO_JOIN'
#define BOOST_DO_JOIN( X, Y ) BOOST_DO_JOIN2(X,Y)
                              ^
../boostIncl/boost/config/suffix.hpp:523:32: note: expanded from macro 'BOOST_DO_JOIN2'
#define BOOST_DO_JOIN2( X, Y ) X##Y
                               ^
<scratch space>:185:1: note: expanded from here
boost_static_assert_typedef_39
^
25 warnings generated.
clang++ -mmacosx-version-min=10.13 -std=gnu++14 -I"/Library/Frameworks/R.framework/Resources/include" -DNDEBUG -I ../boostIncl  -I/usr/local/include   -fPIC  -Wall -g -O2  -DUSING_R -c rundir.cpp -o rundir.o
clang++ -mmacosx-version-min=10.13 -std=gnu++14 -I"/Library/Frameworks/R.framework/Resources/include" -DNDEBUG -I ../boostIncl  -I/usr/local/include   -fPIC  -Wall -g -O2  -DUSING_R -c updates_BGmix.cpp -o updates_BGmix.o
In file included from updates_BGmix.cpp:3:
In file included from ./updates_BGmix.h:1:
In file included from ./rand.hh:32:
In file included from ../boostIncl/boost/random.hpp:36:
In file included from ../boostIncl/boost/random/linear_congruential.hpp:25:
../boostIncl/boost/random/detail/const_mod.hpp:148:5: warning: unused typedef 'boost_static_assert_typedef_148' [-Wunused-local-typedef]
    BOOST_STATIC_ASSERT(m > 0);
    ^
../boostIncl/boost/static_assert.hpp:105:10: note: expanded from macro 'BOOST_STATIC_ASSERT'
         BOOST_JOIN(boost_static_assert_typedef_, __LINE__)
         ^
../boostIncl/boost/config/suffix.hpp:521:28: note: expanded from macro 'BOOST_JOIN'
#define BOOST_JOIN( X, Y ) BOOST_DO_JOIN( X, Y )
                           ^
../boostIncl/boost/config/suffix.hpp:522:31: note: expanded from macro 'BOOST_DO_JOIN'
#define BOOST_DO_JOIN( X, Y ) BOOST_DO_JOIN2(X,Y)
                              ^
../boostIncl/boost/config/suffix.hpp:523:32: note: expanded from macro 'BOOST_DO_JOIN2'
#define BOOST_DO_JOIN2( X, Y ) X##Y
                               ^
<scratch space>:115:1: note: expanded from here
boost_static_assert_typedef_148
^
In file included from updates_BGmix.cpp:3:
In file included from ./updates_BGmix.h:1:
In file included from ./rand.hh:32:
In file included from ../boostIncl/boost/random.hpp:36:
In file included from ../boostIncl/boost/random/linear_congruential.hpp:25:
../boostIncl/boost/random/detail/const_mod.hpp:152:5: warning: unused typedef 'boost_static_assert_typedef_152' [-Wunused-local-typedef]
    BOOST_STATIC_ASSERT(boost::integer_traits<IntType>::is_signed);
    ^
../boostIncl/boost/static_assert.hpp:105:10: note: expanded from macro 'BOOST_STATIC_ASSERT'
         BOOST_JOIN(boost_static_assert_typedef_, __LINE__)
         ^
../boostIncl/boost/config/suffix.hpp:521:28: note: expanded from macro 'BOOST_JOIN'
#define BOOST_JOIN( X, Y ) BOOST_DO_JOIN( X, Y )
                           ^
../boostIncl/boost/config/suffix.hpp:522:31: note: expanded from macro 'BOOST_DO_JOIN'
#define BOOST_DO_JOIN( X, Y ) BOOST_DO_JOIN2(X,Y)
                              ^
../boostIncl/boost/config/suffix.hpp:523:32: note: expanded from macro 'BOOST_DO_JOIN2'
#define BOOST_DO_JOIN2( X, Y ) X##Y
                               ^
<scratch space>:117:1: note: expanded from here
boost_static_assert_typedef_152
^
In file included from updates_BGmix.cpp:3:
In file included from ./updates_BGmix.h:1:
In file included from ./rand.hh:32:
In file included from ../boostIncl/boost/random.hpp:36:
../boostIncl/boost/random/linear_congruential.hpp:63:5: warning: unused typedef 'boost_static_assert_typedef_63' [-Wunused-local-typedef]
    BOOST_STATIC_ASSERT(std::numeric_limits<IntType>::is_integer);
    ^
../boostIncl/boost/static_assert.hpp:105:10: note: expanded from macro 'BOOST_STATIC_ASSERT'
         BOOST_JOIN(boost_static_assert_typedef_, __LINE__)
         ^
../boostIncl/boost/config/suffix.hpp:521:28: note: expanded from macro 'BOOST_JOIN'
#define BOOST_JOIN( X, Y ) BOOST_DO_JOIN( X, Y )
                           ^
../boostIncl/boost/config/suffix.hpp:522:31: note: expanded from macro 'BOOST_DO_JOIN'
#define BOOST_DO_JOIN( X, Y ) BOOST_DO_JOIN2(X,Y)
                              ^
../boostIncl/boost/config/suffix.hpp:523:32: note: expanded from macro 'BOOST_DO_JOIN2'
#define BOOST_DO_JOIN2( X, Y ) X##Y
                               ^
<scratch space>:119:1: note: expanded from here
boost_static_assert_typedef_63
^
In file included from updates_BGmix.cpp:3:
In file included from ./updates_BGmix.h:1:
In file included from ./rand.hh:32:
In file included from ../boostIncl/boost/random.hpp:38:
../boostIncl/boost/random/inversive_congruential.hpp:50:5: warning: unused typedef 'boost_static_assert_typedef_50' [-Wunused-local-typedef]
    BOOST_STATIC_ASSERT(b >= 0);
    ^
../boostIncl/boost/static_assert.hpp:105:10: note: expanded from macro 'BOOST_STATIC_ASSERT'
         BOOST_JOIN(boost_static_assert_typedef_, __LINE__)
         ^
../boostIncl/boost/config/suffix.hpp:521:28: note: expanded from macro 'BOOST_JOIN'
#define BOOST_JOIN( X, Y ) BOOST_DO_JOIN( X, Y )
                           ^
../boostIncl/boost/config/suffix.hpp:522:31: note: expanded from macro 'BOOST_DO_JOIN'
#define BOOST_DO_JOIN( X, Y ) BOOST_DO_JOIN2(X,Y)
                              ^
../boostIncl/boost/config/suffix.hpp:523:32: note: expanded from macro 'BOOST_DO_JOIN2'
#define BOOST_DO_JOIN2( X, Y ) X##Y
                               ^
<scratch space>:121:1: note: expanded from here
boost_static_assert_typedef_50
^
In file included from updates_BGmix.cpp:3:
In file included from ./updates_BGmix.h:1:
In file included from ./rand.hh:32:
In file included from ../boostIncl/boost/random.hpp:38:
../boostIncl/boost/random/inversive_congruential.hpp:51:5: warning: unused typedef 'boost_static_assert_typedef_51' [-Wunused-local-typedef]
    BOOST_STATIC_ASSERT(p > 1);
    ^
../boostIncl/boost/static_assert.hpp:105:10: note: expanded from macro 'BOOST_STATIC_ASSERT'
         BOOST_JOIN(boost_static_assert_typedef_, __LINE__)
         ^
../boostIncl/boost/config/suffix.hpp:521:28: note: expanded from macro 'BOOST_JOIN'
#define BOOST_JOIN( X, Y ) BOOST_DO_JOIN( X, Y )
                           ^
../boostIncl/boost/config/suffix.hpp:522:31: note: expanded from macro 'BOOST_DO_JOIN'
#define BOOST_DO_JOIN( X, Y ) BOOST_DO_JOIN2(X,Y)
                              ^
../boostIncl/boost/config/suffix.hpp:523:32: note: expanded from macro 'BOOST_DO_JOIN2'
#define BOOST_DO_JOIN2( X, Y ) X##Y
                               ^
<scratch space>:123:1: note: expanded from here
boost_static_assert_typedef_51
^
In file included from updates_BGmix.cpp:3:
In file included from ./updates_BGmix.h:1:
In file included from ./rand.hh:32:
In file included from ../boostIncl/boost/random.hpp:38:
../boostIncl/boost/random/inversive_congruential.hpp:52:5: warning: unused typedef 'boost_static_assert_typedef_52' [-Wunused-local-typedef]
    BOOST_STATIC_ASSERT(a >= 1);
    ^
../boostIncl/boost/static_assert.hpp:105:10: note: expanded from macro 'BOOST_STATIC_ASSERT'
         BOOST_JOIN(boost_static_assert_typedef_, __LINE__)
         ^
../boostIncl/boost/config/suffix.hpp:521:28: note: expanded from macro 'BOOST_JOIN'
#define BOOST_JOIN( X, Y ) BOOST_DO_JOIN( X, Y )
                           ^
../boostIncl/boost/config/suffix.hpp:522:31: note: expanded from macro 'BOOST_DO_JOIN'
#define BOOST_DO_JOIN( X, Y ) BOOST_DO_JOIN2(X,Y)
                              ^
../boostIncl/boost/config/suffix.hpp:523:32: note: expanded from macro 'BOOST_DO_JOIN2'
#define BOOST_DO_JOIN2( X, Y ) X##Y
                               ^
<scratch space>:125:1: note: expanded from here
boost_static_assert_typedef_52
^
In file included from updates_BGmix.cpp:3:
In file included from ./updates_BGmix.h:1:
In file included from ./rand.hh:32:
In file included from ../boostIncl/boost/random.hpp:39:
../boostIncl/boost/random/shuffle_output.hpp:124:5: warning: unused typedef 'boost_static_assert_typedef_124' [-Wunused-local-typedef]
    BOOST_STATIC_ASSERT(std::numeric_limits<result_type>::is_integer);
    ^
../boostIncl/boost/static_assert.hpp:105:10: note: expanded from macro 'BOOST_STATIC_ASSERT'
         BOOST_JOIN(boost_static_assert_typedef_, __LINE__)
         ^
../boostIncl/boost/config/suffix.hpp:521:28: note: expanded from macro 'BOOST_JOIN'
#define BOOST_JOIN( X, Y ) BOOST_DO_JOIN( X, Y )
                           ^
../boostIncl/boost/config/suffix.hpp:522:31: note: expanded from macro 'BOOST_DO_JOIN'
#define BOOST_DO_JOIN( X, Y ) BOOST_DO_JOIN2(X,Y)
                              ^
../boostIncl/boost/config/suffix.hpp:523:32: note: expanded from macro 'BOOST_DO_JOIN2'
#define BOOST_DO_JOIN2( X, Y ) X##Y
                               ^
<scratch space>:127:1: note: expanded from here
boost_static_assert_typedef_124
^
In file included from updates_BGmix.cpp:3:
In file included from ./updates_BGmix.h:1:
In file included from ./rand.hh:32:
In file included from ../boostIncl/boost/random.hpp:40:
../boostIncl/boost/random/mersenne_twister.hpp:99:5: warning: unused typedef 'boost_static_assert_typedef_99' [-Wunused-local-typedef]
    BOOST_STATIC_ASSERT(!std::numeric_limits<result_type>::is_signed);
    ^
../boostIncl/boost/static_assert.hpp:105:10: note: expanded from macro 'BOOST_STATIC_ASSERT'
         BOOST_JOIN(boost_static_assert_typedef_, __LINE__)
         ^
../boostIncl/boost/config/suffix.hpp:521:28: note: expanded from macro 'BOOST_JOIN'
#define BOOST_JOIN( X, Y ) BOOST_DO_JOIN( X, Y )
                           ^
../boostIncl/boost/config/suffix.hpp:522:31: note: expanded from macro 'BOOST_DO_JOIN'
#define BOOST_DO_JOIN( X, Y ) BOOST_DO_JOIN2(X,Y)
                              ^
../boostIncl/boost/config/suffix.hpp:523:32: note: expanded from macro 'BOOST_DO_JOIN2'
#define BOOST_DO_JOIN2( X, Y ) X##Y
                               ^
<scratch space>:129:1: note: expanded from here
boost_static_assert_typedef_99
^
In file included from updates_BGmix.cpp:3:
In file included from ./updates_BGmix.h:1:
In file included from ./rand.hh:32:
In file included from ../boostIncl/boost/random.hpp:42:
In file included from ../boostIncl/boost/random/ranlux.hpp:20:
../boostIncl/boost/random/subtract_with_carry.hpp:83:5: warning: unused typedef 'boost_static_assert_typedef_83' [-Wunused-local-typedef]
    BOOST_STATIC_ASSERT(std::numeric_limits<result_type>::is_signed);
    ^
../boostIncl/boost/static_assert.hpp:105:10: note: expanded from macro 'BOOST_STATIC_ASSERT'
         BOOST_JOIN(boost_static_assert_typedef_, __LINE__)
         ^
../boostIncl/boost/config/suffix.hpp:521:28: note: expanded from macro 'BOOST_JOIN'
#define BOOST_JOIN( X, Y ) BOOST_DO_JOIN( X, Y )
                           ^
../boostIncl/boost/config/suffix.hpp:522:31: note: expanded from macro 'BOOST_DO_JOIN'
#define BOOST_DO_JOIN( X, Y ) BOOST_DO_JOIN2(X,Y)
                              ^
../boostIncl/boost/config/suffix.hpp:523:32: note: expanded from macro 'BOOST_DO_JOIN2'
#define BOOST_DO_JOIN2( X, Y ) X##Y
                               ^
<scratch space>:133:1: note: expanded from here
boost_static_assert_typedef_83
^
In file included from updates_BGmix.cpp:3:
In file included from ./updates_BGmix.h:1:
In file included from ./rand.hh:32:
In file included from ../boostIncl/boost/random.hpp:42:
In file included from ../boostIncl/boost/random/ranlux.hpp:20:
../boostIncl/boost/random/subtract_with_carry.hpp:84:5: warning: unused typedef 'boost_static_assert_typedef_84' [-Wunused-local-typedef]
    BOOST_STATIC_ASSERT(std::numeric_limits<result_type>::is_integer);
    ^
../boostIncl/boost/static_assert.hpp:105:10: note: expanded from macro 'BOOST_STATIC_ASSERT'
         BOOST_JOIN(boost_static_assert_typedef_, __LINE__)
         ^
../boostIncl/boost/config/suffix.hpp:521:28: note: expanded from macro 'BOOST_JOIN'
#define BOOST_JOIN( X, Y ) BOOST_DO_JOIN( X, Y )
                           ^
../boostIncl/boost/config/suffix.hpp:522:31: note: expanded from macro 'BOOST_DO_JOIN'
#define BOOST_DO_JOIN( X, Y ) BOOST_DO_JOIN2(X,Y)
                              ^
../boostIncl/boost/config/suffix.hpp:523:32: note: expanded from macro 'BOOST_DO_JOIN2'
#define BOOST_DO_JOIN2( X, Y ) X##Y
                               ^
<scratch space>:135:1: note: expanded from here
boost_static_assert_typedef_84
^
In file included from updates_BGmix.cpp:3:
In file included from ./updates_BGmix.h:1:
In file included from ./rand.hh:32:
In file included from ../boostIncl/boost/random.hpp:43:
../boostIncl/boost/random/linear_feedback_shift.hpp:55:5: warning: unused typedef 'boost_static_assert_typedef_55' [-Wunused-local-typedef]
    BOOST_STATIC_ASSERT(std::numeric_limits<UIntType>::is_integer);
    ^
../boostIncl/boost/static_assert.hpp:105:10: note: expanded from macro 'BOOST_STATIC_ASSERT'
         BOOST_JOIN(boost_static_assert_typedef_, __LINE__)
         ^
../boostIncl/boost/config/suffix.hpp:521:28: note: expanded from macro 'BOOST_JOIN'
#define BOOST_JOIN( X, Y ) BOOST_DO_JOIN( X, Y )
                           ^
../boostIncl/boost/config/suffix.hpp:522:31: note: expanded from macro 'BOOST_DO_JOIN'
#define BOOST_DO_JOIN( X, Y ) BOOST_DO_JOIN2(X,Y)
                              ^
../boostIncl/boost/config/suffix.hpp:523:32: note: expanded from macro 'BOOST_DO_JOIN2'
#define BOOST_DO_JOIN2( X, Y ) X##Y
                               ^
<scratch space>:141:1: note: expanded from here
boost_static_assert_typedef_55
^
In file included from updates_BGmix.cpp:3:
In file included from ./updates_BGmix.h:1:
In file included from ./rand.hh:32:
In file included from ../boostIncl/boost/random.hpp:43:
../boostIncl/boost/random/linear_feedback_shift.hpp:56:5: warning: unused typedef 'boost_static_assert_typedef_56' [-Wunused-local-typedef]
    BOOST_STATIC_ASSERT(!std::numeric_limits<UIntType>::is_signed);
    ^
../boostIncl/boost/static_assert.hpp:105:10: note: expanded from macro 'BOOST_STATIC_ASSERT'
         BOOST_JOIN(boost_static_assert_typedef_, __LINE__)
         ^
../boostIncl/boost/config/suffix.hpp:521:28: note: expanded from macro 'BOOST_JOIN'
#define BOOST_JOIN( X, Y ) BOOST_DO_JOIN( X, Y )
                           ^
../boostIncl/boost/config/suffix.hpp:522:31: note: expanded from macro 'BOOST_DO_JOIN'
#define BOOST_DO_JOIN( X, Y ) BOOST_DO_JOIN2(X,Y)
                              ^
../boostIncl/boost/config/suffix.hpp:523:32: note: expanded from macro 'BOOST_DO_JOIN2'
#define BOOST_DO_JOIN2( X, Y ) X##Y
                               ^
<scratch space>:143:1: note: expanded from here
boost_static_assert_typedef_56
^
In file included from updates_BGmix.cpp:3:
In file included from ./updates_BGmix.h:1:
In file included from ./rand.hh:32:
In file included from ../boostIncl/boost/random.hpp:43:
../boostIncl/boost/random/linear_feedback_shift.hpp:69:5: warning: unused typedef 'boost_static_assert_typedef_69' [-Wunused-local-typedef]
    BOOST_STATIC_ASSERT(std::numeric_limits<UIntType>::is_integer);
    ^
../boostIncl/boost/static_assert.hpp:105:10: note: expanded from macro 'BOOST_STATIC_ASSERT'
         BOOST_JOIN(boost_static_assert_typedef_, __LINE__)
         ^
../boostIncl/boost/config/suffix.hpp:521:28: note: expanded from macro 'BOOST_JOIN'
#define BOOST_JOIN( X, Y ) BOOST_DO_JOIN( X, Y )
                           ^
../boostIncl/boost/config/suffix.hpp:522:31: note: expanded from macro 'BOOST_DO_JOIN'
#define BOOST_DO_JOIN( X, Y ) BOOST_DO_JOIN2(X,Y)
                              ^
../boostIncl/boost/config/suffix.hpp:523:32: note: expanded from macro 'BOOST_DO_JOIN2'
#define BOOST_DO_JOIN2( X, Y ) X##Y
                               ^
<scratch space>:145:1: note: expanded from here
boost_static_assert_typedef_69
^
In file included from updates_BGmix.cpp:3:
In file included from ./updates_BGmix.h:1:
In file included from ./rand.hh:32:
In file included from ../boostIncl/boost/random.hpp:43:
../boostIncl/boost/random/linear_feedback_shift.hpp:70:5: warning: unused typedef 'boost_static_assert_typedef_70' [-Wunused-local-typedef]
    BOOST_STATIC_ASSERT(!std::numeric_limits<UIntType>::is_signed);
    ^
../boostIncl/boost/static_assert.hpp:105:10: note: expanded from macro 'BOOST_STATIC_ASSERT'
         BOOST_JOIN(boost_static_assert_typedef_, __LINE__)
         ^
../boostIncl/boost/config/suffix.hpp:521:28: note: expanded from macro 'BOOST_JOIN'
#define BOOST_JOIN( X, Y ) BOOST_DO_JOIN( X, Y )
                           ^
../boostIncl/boost/config/suffix.hpp:522:31: note: expanded from macro 'BOOST_DO_JOIN'
#define BOOST_DO_JOIN( X, Y ) BOOST_DO_JOIN2(X,Y)
                              ^
../boostIncl/boost/config/suffix.hpp:523:32: note: expanded from macro 'BOOST_DO_JOIN2'
#define BOOST_DO_JOIN2( X, Y ) X##Y
                               ^
<scratch space>:147:1: note: expanded from here
boost_static_assert_typedef_70
^
In file included from updates_BGmix.cpp:3:
In file included from ./updates_BGmix.h:1:
In file included from ./rand.hh:32:
In file included from ../boostIncl/boost/random.hpp:44:
../boostIncl/boost/random/xor_combine.hpp:67:5: warning: unused typedef 'boost_static_assert_typedef_67' [-Wunused-local-typedef]
    BOOST_STATIC_ASSERT(std::numeric_limits<typename base1_type::result_type>::is_integer);
    ^
../boostIncl/boost/static_assert.hpp:105:10: note: expanded from macro 'BOOST_STATIC_ASSERT'
         BOOST_JOIN(boost_static_assert_typedef_, __LINE__)
         ^
../boostIncl/boost/config/suffix.hpp:521:28: note: expanded from macro 'BOOST_JOIN'
#define BOOST_JOIN( X, Y ) BOOST_DO_JOIN( X, Y )
                           ^
../boostIncl/boost/config/suffix.hpp:522:31: note: expanded from macro 'BOOST_DO_JOIN'
#define BOOST_DO_JOIN( X, Y ) BOOST_DO_JOIN2(X,Y)
                              ^
../boostIncl/boost/config/suffix.hpp:523:32: note: expanded from macro 'BOOST_DO_JOIN2'
#define BOOST_DO_JOIN2( X, Y ) X##Y
                               ^
<scratch space>:149:1: note: expanded from here
boost_static_assert_typedef_67
^
In file included from updates_BGmix.cpp:3:
In file included from ./updates_BGmix.h:1:
In file included from ./rand.hh:32:
In file included from ../boostIncl/boost/random.hpp:44:
../boostIncl/boost/random/xor_combine.hpp:68:5: warning: unused typedef 'boost_static_assert_typedef_68' [-Wunused-local-typedef]
    BOOST_STATIC_ASSERT(std::numeric_limits<typename base2_type::result_type>::is_integer);
    ^
../boostIncl/boost/static_assert.hpp:105:10: note: expanded from macro 'BOOST_STATIC_ASSERT'
         BOOST_JOIN(boost_static_assert_typedef_, __LINE__)
         ^
../boostIncl/boost/config/suffix.hpp:521:28: note: expanded from macro 'BOOST_JOIN'
#define BOOST_JOIN( X, Y ) BOOST_DO_JOIN( X, Y )
                           ^
../boostIncl/boost/config/suffix.hpp:522:31: note: expanded from macro 'BOOST_DO_JOIN'
#define BOOST_DO_JOIN( X, Y ) BOOST_DO_JOIN2(X,Y)
                              ^
../boostIncl/boost/config/suffix.hpp:523:32: note: expanded from macro 'BOOST_DO_JOIN2'
#define BOOST_DO_JOIN2( X, Y ) X##Y
                               ^
<scratch space>:151:1: note: expanded from here
boost_static_assert_typedef_68
^
In file included from updates_BGmix.cpp:3:
In file included from ./updates_BGmix.h:1:
In file included from ./rand.hh:32:
In file included from ../boostIncl/boost/random.hpp:44:
../boostIncl/boost/random/xor_combine.hpp:69:5: warning: unused typedef 'boost_static_assert_typedef_69' [-Wunused-local-typedef]
    BOOST_STATIC_ASSERT(std::numeric_limits<typename base1_type::result_type>::digits >= std::numeric_limits<typename base2_type::result_type>::digits);
    ^
../boostIncl/boost/static_assert.hpp:105:10: note: expanded from macro 'BOOST_STATIC_ASSERT'
         BOOST_JOIN(boost_static_assert_typedef_, __LINE__)
         ^
../boostIncl/boost/config/suffix.hpp:521:28: note: expanded from macro 'BOOST_JOIN'
#define BOOST_JOIN( X, Y ) BOOST_DO_JOIN( X, Y )
                           ^
../boostIncl/boost/config/suffix.hpp:522:31: note: expanded from macro 'BOOST_DO_JOIN'
#define BOOST_DO_JOIN( X, Y ) BOOST_DO_JOIN2(X,Y)
                              ^
../boostIncl/boost/config/suffix.hpp:523:32: note: expanded from macro 'BOOST_DO_JOIN2'
#define BOOST_DO_JOIN2( X, Y ) X##Y
                               ^
<scratch space>:153:1: note: expanded from here
boost_static_assert_typedef_69
^
In file included from updates_BGmix.cpp:3:
In file included from ./updates_BGmix.h:1:
In file included from ./rand.hh:32:
In file included from ../boostIncl/boost/random.hpp:53:
In file included from ../boostIncl/boost/random/random_number_generator.hpp:22:
In file included from ../boostIncl/boost/random/uniform_int.hpp:26:
../boostIncl/boost/random/uniform_smallint.hpp:121:5: warning: unused typedef 'boost_static_assert_typedef_121' [-Wunused-local-typedef]
    BOOST_STATIC_ASSERT(std::numeric_limits<IntType>::is_integer);
    ^
../boostIncl/boost/static_assert.hpp:105:10: note: expanded from macro 'BOOST_STATIC_ASSERT'
         BOOST_JOIN(boost_static_assert_typedef_, __LINE__)
         ^
../boostIncl/boost/config/suffix.hpp:521:28: note: expanded from macro 'BOOST_JOIN'
#define BOOST_JOIN( X, Y ) BOOST_DO_JOIN( X, Y )
                           ^
../boostIncl/boost/config/suffix.hpp:522:31: note: expanded from macro 'BOOST_DO_JOIN'
#define BOOST_DO_JOIN( X, Y ) BOOST_DO_JOIN2(X,Y)
                              ^
../boostIncl/boost/config/suffix.hpp:523:32: note: expanded from macro 'BOOST_DO_JOIN2'
#define BOOST_DO_JOIN2( X, Y ) X##Y
                               ^
<scratch space>:155:1: note: expanded from here
boost_static_assert_typedef_121
^
In file included from updates_BGmix.cpp:3:
In file included from ./updates_BGmix.h:1:
In file included from ./rand.hh:32:
In file included from ../boostIncl/boost/random.hpp:53:
In file included from ../boostIncl/boost/random/random_number_generator.hpp:22:
In file included from ../boostIncl/boost/random/uniform_int.hpp:26:
../boostIncl/boost/random/uniform_smallint.hpp:122:5: warning: unused typedef 'boost_static_assert_typedef_122' [-Wunused-local-typedef]
    BOOST_STATIC_ASSERT(!std::numeric_limits<typename base_type::result_type>::is_integer);
    ^
../boostIncl/boost/static_assert.hpp:105:10: note: expanded from macro 'BOOST_STATIC_ASSERT'
         BOOST_JOIN(boost_static_assert_typedef_, __LINE__)
         ^
../boostIncl/boost/config/suffix.hpp:521:28: note: expanded from macro 'BOOST_JOIN'
#define BOOST_JOIN( X, Y ) BOOST_DO_JOIN( X, Y )
                           ^
../boostIncl/boost/config/suffix.hpp:522:31: note: expanded from macro 'BOOST_DO_JOIN'
#define BOOST_DO_JOIN( X, Y ) BOOST_DO_JOIN2(X,Y)
                              ^
../boostIncl/boost/config/suffix.hpp:523:32: note: expanded from macro 'BOOST_DO_JOIN2'
#define BOOST_DO_JOIN2( X, Y ) X##Y
                               ^
<scratch space>:157:1: note: expanded from here
boost_static_assert_typedef_122
^
In file included from updates_BGmix.cpp:3:
In file included from ./updates_BGmix.h:1:
In file included from ./rand.hh:32:
In file included from ../boostIncl/boost/random.hpp:53:
In file included from ../boostIncl/boost/random/random_number_generator.hpp:22:
In file included from ../boostIncl/boost/random/uniform_int.hpp:26:
../boostIncl/boost/random/uniform_smallint.hpp:170:5: warning: unused typedef 'boost_static_assert_typedef_170' [-Wunused-local-typedef]
    BOOST_STATIC_ASSERT(std::numeric_limits<IntType>::is_integer);
    ^
../boostIncl/boost/static_assert.hpp:105:10: note: expanded from macro 'BOOST_STATIC_ASSERT'
         BOOST_JOIN(boost_static_assert_typedef_, __LINE__)
         ^
../boostIncl/boost/config/suffix.hpp:521:28: note: expanded from macro 'BOOST_JOIN'
#define BOOST_JOIN( X, Y ) BOOST_DO_JOIN( X, Y )
                           ^
../boostIncl/boost/config/suffix.hpp:522:31: note: expanded from macro 'BOOST_DO_JOIN'
#define BOOST_DO_JOIN( X, Y ) BOOST_DO_JOIN2(X,Y)
                              ^
../boostIncl/boost/config/suffix.hpp:523:32: note: expanded from macro 'BOOST_DO_JOIN2'
#define BOOST_DO_JOIN2( X, Y ) X##Y
                               ^
<scratch space>:159:1: note: expanded from here
boost_static_assert_typedef_170
^
In file included from updates_BGmix.cpp:3:
In file included from ./updates_BGmix.h:1:
In file included from ./rand.hh:32:
In file included from ../boostIncl/boost/random.hpp:53:
In file included from ../boostIncl/boost/random/random_number_generator.hpp:22:
../boostIncl/boost/random/uniform_int.hpp:47:5: warning: unused typedef 'boost_static_assert_typedef_47' [-Wunused-local-typedef]
    BOOST_STATIC_ASSERT(std::numeric_limits<IntType>::is_integer);
    ^
../boostIncl/boost/static_assert.hpp:105:10: note: expanded from macro 'BOOST_STATIC_ASSERT'
         BOOST_JOIN(boost_static_assert_typedef_, __LINE__)
         ^
../boostIncl/boost/config/suffix.hpp:521:28: note: expanded from macro 'BOOST_JOIN'
#define BOOST_JOIN( X, Y ) BOOST_DO_JOIN( X, Y )
                           ^
../boostIncl/boost/config/suffix.hpp:522:31: note: expanded from macro 'BOOST_DO_JOIN'
#define BOOST_DO_JOIN( X, Y ) BOOST_DO_JOIN2(X,Y)
                              ^
../boostIncl/boost/config/suffix.hpp:523:32: note: expanded from macro 'BOOST_DO_JOIN2'
#define BOOST_DO_JOIN2( X, Y ) X##Y
                               ^
<scratch space>:161:1: note: expanded from here
boost_static_assert_typedef_47
^
In file included from updates_BGmix.cpp:3:
In file included from ./updates_BGmix.h:1:
In file included from ./rand.hh:32:
In file included from ../boostIncl/boost/random.hpp:53:
../boostIncl/boost/random/random_number_generator.hpp:38:5: warning: unused typedef 'boost_static_assert_typedef_38' [-Wunused-local-typedef]
    BOOST_STATIC_ASSERT(std::numeric_limits<result_type>::is_integer);
    ^
../boostIncl/boost/static_assert.hpp:105:10: note: expanded from macro 'BOOST_STATIC_ASSERT'
         BOOST_JOIN(boost_static_assert_typedef_, __LINE__)
         ^
../boostIncl/boost/config/suffix.hpp:521:28: note: expanded from macro 'BOOST_JOIN'
#define BOOST_JOIN( X, Y ) BOOST_DO_JOIN( X, Y )
                           ^
../boostIncl/boost/config/suffix.hpp:522:31: note: expanded from macro 'BOOST_DO_JOIN'
#define BOOST_DO_JOIN( X, Y ) BOOST_DO_JOIN2(X,Y)
                              ^
../boostIncl/boost/config/suffix.hpp:523:32: note: expanded from macro 'BOOST_DO_JOIN2'
#define BOOST_DO_JOIN2( X, Y ) X##Y
                               ^
<scratch space>:163:1: note: expanded from here
boost_static_assert_typedef_38
^
In file included from updates_BGmix.cpp:3:
In file included from ./updates_BGmix.h:1:
In file included from ./rand.hh:32:
In file included from ../boostIncl/boost/random.hpp:59:
../boostIncl/boost/random/uniform_real.hpp:41:5: warning: unused typedef 'boost_static_assert_typedef_41' [-Wunused-local-typedef]
    BOOST_STATIC_ASSERT(!std::numeric_limits<RealType>::is_integer);
    ^
../boostIncl/boost/static_assert.hpp:105:10: note: expanded from macro 'BOOST_STATIC_ASSERT'
         BOOST_JOIN(boost_static_assert_typedef_, __LINE__)
         ^
../boostIncl/boost/config/suffix.hpp:521:28: note: expanded from macro 'BOOST_JOIN'
#define BOOST_JOIN( X, Y ) BOOST_DO_JOIN( X, Y )
                           ^
../boostIncl/boost/config/suffix.hpp:522:31: note: expanded from macro 'BOOST_DO_JOIN'
#define BOOST_DO_JOIN( X, Y ) BOOST_DO_JOIN2(X,Y)
                              ^
../boostIncl/boost/config/suffix.hpp:523:32: note: expanded from macro 'BOOST_DO_JOIN2'
#define BOOST_DO_JOIN2( X, Y ) X##Y
                               ^
<scratch space>:165:1: note: expanded from here
boost_static_assert_typedef_41
^
In file included from updates_BGmix.cpp:3:
In file included from ./updates_BGmix.h:1:
In file included from ./rand.hh:32:
In file included from ../boostIncl/boost/random.hpp:67:
../boostIncl/boost/random/poisson_distribution.hpp:38:5: warning: unused typedef 'boost_static_assert_typedef_38' [-Wunused-local-typedef]
    BOOST_STATIC_ASSERT(std::numeric_limits<IntType>::is_integer);
    ^
../boostIncl/boost/static_assert.hpp:105:10: note: expanded from macro 'BOOST_STATIC_ASSERT'
         BOOST_JOIN(boost_static_assert_typedef_, __LINE__)
         ^
../boostIncl/boost/config/suffix.hpp:521:28: note: expanded from macro 'BOOST_JOIN'
#define BOOST_JOIN( X, Y ) BOOST_DO_JOIN( X, Y )
                           ^
../boostIncl/boost/config/suffix.hpp:522:31: note: expanded from macro 'BOOST_DO_JOIN'
#define BOOST_DO_JOIN( X, Y ) BOOST_DO_JOIN2(X,Y)
                              ^
../boostIncl/boost/config/suffix.hpp:523:32: note: expanded from macro 'BOOST_DO_JOIN2'
#define BOOST_DO_JOIN2( X, Y ) X##Y
                               ^
<scratch space>:175:1: note: expanded from here
boost_static_assert_typedef_38
^
In file included from updates_BGmix.cpp:3:
In file included from ./updates_BGmix.h:1:
In file included from ./rand.hh:32:
In file included from ../boostIncl/boost/random.hpp:67:
../boostIncl/boost/random/poisson_distribution.hpp:39:5: warning: unused typedef 'boost_static_assert_typedef_39' [-Wunused-local-typedef]
    BOOST_STATIC_ASSERT(!std::numeric_limits<RealType>::is_integer);
    ^
../boostIncl/boost/static_assert.hpp:105:10: note: expanded from macro 'BOOST_STATIC_ASSERT'
         BOOST_JOIN(boost_static_assert_typedef_, __LINE__)
         ^
../boostIncl/boost/config/suffix.hpp:521:28: note: expanded from macro 'BOOST_JOIN'
#define BOOST_JOIN( X, Y ) BOOST_DO_JOIN( X, Y )
                           ^
../boostIncl/boost/config/suffix.hpp:522:31: note: expanded from macro 'BOOST_DO_JOIN'
#define BOOST_DO_JOIN( X, Y ) BOOST_DO_JOIN2(X,Y)
                              ^
../boostIncl/boost/config/suffix.hpp:523:32: note: expanded from macro 'BOOST_DO_JOIN2'
#define BOOST_DO_JOIN2( X, Y ) X##Y
                               ^
<scratch space>:177:1: note: expanded from here
boost_static_assert_typedef_39
^
25 warnings generated.
clang++ -mmacosx-version-min=10.13 -std=gnu++14 -dynamiclib -Wl,-headerpad_max_install_names -undefined dynamic_lookup -single_module -multiply_defined suppress -L/Library/Frameworks/R.framework/Resources/lib -L/usr/local/lib -o BGmix.so BGmix_main.o rundir.o updates_BGmix.o -lm -F/Library/Frameworks/R.framework/.. -framework R -Wl,-framework -Wl,CoreFoundation
rm -r ../boostIncl 
installing to /Library/Frameworks/R.framework/Versions/4.1/Resources/library/00LOCK-BGmix/00new/BGmix/libs
** R
** data
** byte-compile and prepare package for lazy loading
** help
*** installing help indices
** building package indices
** installing vignettes
** testing if installed package can be loaded from temporary location
** checking absolute paths in shared objects and dynamic libraries
** testing if installed package can be loaded from final location
** testing if installed package keeps a record of temporary installation path
* DONE (BGmix)

Tests output


Example timings

BGmix.Rcheck/BGmix-Ex.timings

nameusersystemelapsed
BGmix-package2.3420.2822.785
BGmix5.1470.2305.390
EstimatePi03.0110.2083.224
FDRforTailPP6.8430.3947.244
FDRplotTailPP2.8700.1112.991
TailPP2.9020.1163.025
calcFDR0.6010.0520.658
ccParams0.5420.0480.592
ccPred0.5860.0540.641
ccSummary0.6380.1290.768
ccTrace0.7710.0590.831
histTailPP3.0010.1283.132
plotBasic0.6640.0610.725
plotCompare0.1440.0040.148
plotFDR0.5960.0490.646
plotMixDensity2.0210.1572.356
plotPredChecks0.6280.0570.690
plotTrace0.8420.1320.977