Back to Multiple platform build/check report for BioC 3.14
A[B]CDEFGHIJKLMNOPQRSTUVWXYZ

This page was generated on 2022-01-24 13:05:55 -0500 (Mon, 24 Jan 2022).

HostnameOSArch (*)R versionInstalled pkgs
nebbiolo2Linux (Ubuntu 20.04.4 LTS)x86_644.1.2 (2021-11-01) -- "Bird Hippie" 4329
tokay2Windows Server 2012 R2 Standardx644.1.2 (2021-11-01) -- "Bird Hippie" 4080
machv2macOS 10.14.6 Mojavex86_644.1.2 (2021-11-01) -- "Bird Hippie" 4141
Click on any hostname to see more info about the system (e.g. compilers)      (*) as reported by 'uname -p', except on Windows and Mac OS X

BUILD BIN results for BEclear on tokay2


To the developers/maintainers of the BEclear package:
- Please allow up to 24 hours (and sometimes 48 hours) for your latest push to git@git.bioconductor.org:packages/BEclear.git to
reflect on this report. See How and When does the builder pull? When will my changes propagate? here for more information.
- Make sure to use the following settings in order to reproduce any error or warning you see on this page.

raw results

Package 138/2083HostnameOS / ArchINSTALLBUILDCHECKBUILD BIN
BEclear 2.10.0  (landing page)
David Rasp
Snapshot Date: 2022-01-23 01:55:04 -0500 (Sun, 23 Jan 2022)
git_url: https://git.bioconductor.org/packages/BEclear
git_branch: RELEASE_3_14
git_last_commit: 240fe18
git_last_commit_date: 2021-10-26 12:20:44 -0500 (Tue, 26 Oct 2021)
nebbiolo2Linux (Ubuntu 20.04.4 LTS) / x86_64  OK    OK    OK  UNNEEDED, same version is already published
tokay2Windows Server 2012 R2 Standard / x64  OK    OK    OK    OK  UNNEEDED, same version is already published
machv2macOS 10.14.6 Mojave / x86_64  OK    OK    OK    OK  UNNEEDED, same version is already published

Summary

Package: BEclear
Version: 2.10.0
Command: rm -rf BEclear.buildbin-libdir && mkdir BEclear.buildbin-libdir && C:\Users\biocbuild\bbs-3.14-bioc\R\bin\R.exe CMD INSTALL --merge-multiarch --build --library=BEclear.buildbin-libdir BEclear_2.10.0.tar.gz
StartedAt: 2022-01-24 05:09:28 -0500 (Mon, 24 Jan 2022)
EndedAt: 2022-01-24 05:10:08 -0500 (Mon, 24 Jan 2022)
EllapsedTime: 40.8 seconds
RetCode: 0
Status:   OK  
PackageFile: BEclear_2.10.0.zip
PackageFileSize: 1.308 MiB

Command output

##############################################################################
##############################################################################
###
### Running command:
###
###   rm -rf BEclear.buildbin-libdir && mkdir BEclear.buildbin-libdir && C:\Users\biocbuild\bbs-3.14-bioc\R\bin\R.exe CMD INSTALL --merge-multiarch --build --library=BEclear.buildbin-libdir BEclear_2.10.0.tar.gz
###
##############################################################################
##############################################################################



install for i386

* installing *source* package 'BEclear' ...
** using staged installation
** libs
"C:/rtools40/mingw32/bin/"g++  -std=gnu++11 -I"C:/Users/BIOCBU~1/BBS-3~1.14-/R/include" -DNDEBUG  -I'C:/Users/biocbuild/bbs-3.14-bioc/R/library/Rcpp/include'   -I"C:/extsoft/include"     -O2 -Wall  -mfpmath=sse -msse2 -mstackrealign  -c RcppExports.cpp -o RcppExports.o
"C:/rtools40/mingw32/bin/"g++  -std=gnu++11 -I"C:/Users/BIOCBU~1/BBS-3~1.14-/R/include" -DNDEBUG  -I'C:/Users/biocbuild/bbs-3.14-bioc/R/library/Rcpp/include'   -I"C:/extsoft/include"     -O2 -Wall  -mfpmath=sse -msse2 -mstackrealign  -c localLoss.cpp -o localLoss.o
C:/rtools40/mingw32/bin/g++ -shared -s -static-libgcc -o BEclear.dll tmp.def RcppExports.o localLoss.o -LC:/extsoft/lib/i386 -LC:/extsoft/lib -LC:/Users/BIOCBU~1/BBS-3~1.14-/R/bin/i386 -lR
installing to C:/Users/biocbuild/bbs-3.14-bioc/meat/BEclear.buildbin-libdir/00LOCK-BEclear/00new/BEclear/libs/i386
** R
** data
** inst
** byte-compile and prepare package for lazy loading
** help
*** installing help indices
  converting help for package 'BEclear'
    finding HTML links ... done
    BEclear-example-methylation-data        html  
    BEclear-example-sample-data             html  
    BEclear-package                         html  
    calcBatchEffects                        html  
    calcBatchEffectsForBatch                html  
    calcBlockFrame                          html  
    calcPositions                           html  
    calcScore                               html  
    calcSummary                             html  
    clearBEgenes                            html  
    combineBlocks                           html  
    correctBatchEffect                      html  
    countValuesToPredict                    html  
    ex.corrected.data                       html  
    findOutsideValues                       html  
    gdepoch                                 html  
    imputeMissingData                       html  
    imputeMissingDataForBlock               html  
    localLoss                               html  
    loss                                    html  
    makeBoxplot                             html  
    preprocessBEclear                       html  
    replaceOutsideValues                    html  
    runGradientDescent                      html  
** building package indices
** installing vignettes
** testing if installed package can be loaded from temporary location
** testing if installed package can be loaded from final location
** testing if installed package keeps a record of temporary installation path

install for x64

* installing *source* package 'BEclear' ...
** libs
"C:/rtools40/mingw64/bin/"g++  -std=gnu++11 -I"C:/Users/BIOCBU~1/BBS-3~1.14-/R/include" -DNDEBUG  -I'C:/Users/biocbuild/bbs-3.14-bioc/R/library/Rcpp/include'   -I"C:/extsoft/include"     -O2 -Wall  -mfpmath=sse -msse2 -mstackrealign  -c RcppExports.cpp -o RcppExports.o
"C:/rtools40/mingw64/bin/"g++  -std=gnu++11 -I"C:/Users/BIOCBU~1/BBS-3~1.14-/R/include" -DNDEBUG  -I'C:/Users/biocbuild/bbs-3.14-bioc/R/library/Rcpp/include'   -I"C:/extsoft/include"     -O2 -Wall  -mfpmath=sse -msse2 -mstackrealign  -c localLoss.cpp -o localLoss.o
C:/rtools40/mingw64/bin/g++ -shared -s -static-libgcc -o BEclear.dll tmp.def RcppExports.o localLoss.o -LC:/extsoft/lib/x64 -LC:/extsoft/lib -LC:/Users/BIOCBU~1/BBS-3~1.14-/R/bin/x64 -lR
installing to C:/Users/biocbuild/bbs-3.14-bioc/meat/BEclear.buildbin-libdir/BEclear/libs/x64
** testing if installed package can be loaded
* MD5 sums
packaged installation of 'BEclear' as BEclear_2.10.0.zip
* DONE (BEclear)