Name | Last modified | Size | Description | |
---|---|---|---|---|
Parent Directory | - | |||
install-summary.dcf | 14-Apr-2022 01:06 | 626 | ||
install-out.txt | 14-Apr-2022 01:06 | 7.8K | ||
checksrc-summary.dcf | 14-Apr-2022 01:06 | 457 | ||
checksrc-out.txt | 14-Apr-2022 01:06 | 6.0K | ||
buildsrc-summary.dcf | 14-Apr-2022 01:06 | 453 | ||
buildsrc-out.txt | 14-Apr-2022 01:06 | 871 | ||
buildbin-summary.dcf | 14-Apr-2022 01:06 | 531 | ||
buildbin-out.txt | 14-Apr-2022 01:06 | 7.1K | ||