Back to Multiple platform build/check report for BioC 3.14
A[B]CDEFGHIJKLMNOPQRSTUVWXYZ

This page was generated on 2022-01-24 13:05:54 -0500 (Mon, 24 Jan 2022).

HostnameOSArch (*)R versionInstalled pkgs
nebbiolo2Linux (Ubuntu 20.04.4 LTS)x86_644.1.2 (2021-11-01) -- "Bird Hippie" 4329
tokay2Windows Server 2012 R2 Standardx644.1.2 (2021-11-01) -- "Bird Hippie" 4080
machv2macOS 10.14.6 Mojavex86_644.1.2 (2021-11-01) -- "Bird Hippie" 4141
Click on any hostname to see more info about the system (e.g. compilers)      (*) as reported by 'uname -p', except on Windows and Mac OS X

BUILD results for BAGS on tokay2


To the developers/maintainers of the BAGS package:
- Please allow up to 24 hours (and sometimes 48 hours) for your latest push to git@git.bioconductor.org:packages/BAGS.git to
reflect on this report. See How and When does the builder pull? When will my changes propagate? here for more information.
- Make sure to use the following settings in order to reproduce any error or warning you see on this page.

raw results

Package 108/2083HostnameOS / ArchINSTALLBUILDCHECKBUILD BIN
BAGS 2.34.0  (landing page)
Alejandro Quiroz-Zarate
Snapshot Date: 2022-01-23 01:55:04 -0500 (Sun, 23 Jan 2022)
git_url: https://git.bioconductor.org/packages/BAGS
git_branch: RELEASE_3_14
git_last_commit: 4d95037
git_last_commit_date: 2021-10-26 12:01:47 -0500 (Tue, 26 Oct 2021)
nebbiolo2Linux (Ubuntu 20.04.4 LTS) / x86_64  OK    OK    OK  UNNEEDED, same version is already published
tokay2Windows Server 2012 R2 Standard / x64  OK    OK    OK    OK  UNNEEDED, same version is already published
machv2macOS 10.14.6 Mojave / x86_64  OK    OK    OK    OK  UNNEEDED, same version is already published

Summary

Package: BAGS
Version: 2.34.0
Command: chmod a+r BAGS -R && C:\Users\biocbuild\bbs-3.14-bioc\R\bin\R.exe CMD build --keep-empty-dirs --no-resave-data BAGS
StartedAt: 2022-01-23 08:03:59 -0500 (Sun, 23 Jan 2022)
EndedAt: 2022-01-23 08:05:12 -0500 (Sun, 23 Jan 2022)
EllapsedTime: 73.0 seconds
RetCode: 0
Status:   OK  
PackageFile: BAGS_2.34.0.tar.gz
PackageFileSize: 240.9 KiB

Command output

##############################################################################
##############################################################################
###
### Running command:
###
###   chmod a+r BAGS -R && C:\Users\biocbuild\bbs-3.14-bioc\R\bin\R.exe CMD build --keep-empty-dirs --no-resave-data BAGS
###
##############################################################################
##############################################################################


* checking for file 'BAGS/DESCRIPTION' ... OK
* preparing 'BAGS':
* checking DESCRIPTION meta-information ... OK
* cleaning src
* installing the package to build vignettes
* creating vignettes ... OK
* cleaning src
* checking for LF line-endings in source and make files and shell scripts
* checking for empty or unneeded directories
* looking to see if a 'data/datalist' file should be added
* building 'BAGS_2.34.0.tar.gz'