Back to Multiple platform build/check report for BioC 3.14
[A]BCDEFGHIJKLMNOPQRSTUVWXYZ

This page was generated on 2022-01-17 13:04:47 -0500 (Mon, 17 Jan 2022).

HostnameOSArch (*)R versionInstalled pkgs
nebbiolo2Linux (Ubuntu 20.04.4 LTS)x86_644.1.2 (2021-11-01) -- "Bird Hippie" 4328
tokay2Windows Server 2012 R2 Standardx644.1.2 (2021-11-01) -- "Bird Hippie" 4077
machv2macOS 10.14.6 Mojavex86_644.1.2 (2021-11-01) -- "Bird Hippie" 4138
Click on any hostname to see more info about the system (e.g. compilers)      (*) as reported by 'uname -p', except on Windows and Mac OS X

BUILD results for AlphaBeta on nebbiolo2


To the developers/maintainers of the AlphaBeta package:
- Please allow up to 24 hours (and sometimes 48 hours) for your latest push to git@git.bioconductor.org:packages/AlphaBeta.git to
reflect on this report. See How and When does the builder pull? When will my changes propagate? here for more information.
- Make sure to use the following settings in order to reproduce any error or warning you see on this page.

raw results

Package 43/2083HostnameOS / ArchINSTALLBUILDCHECKBUILD BIN
AlphaBeta 1.8.0  (landing page)
Yadollah Shahryary Dizaji
Snapshot Date: 2022-01-16 01:55:05 -0500 (Sun, 16 Jan 2022)
git_url: https://git.bioconductor.org/packages/AlphaBeta
git_branch: RELEASE_3_14
git_last_commit: da93a7f
git_last_commit_date: 2021-10-26 12:53:27 -0500 (Tue, 26 Oct 2021)
nebbiolo2Linux (Ubuntu 20.04.4 LTS) / x86_64  OK    OK    OK  UNNEEDED, same version is already published
tokay2Windows Server 2012 R2 Standard / x64  OK    OK    OK    OK  UNNEEDED, same version is already published
machv2macOS 10.14.6 Mojave / x86_64  OK    OK    OK    OK  UNNEEDED, same version is already published

Summary

Package: AlphaBeta
Version: 1.8.0
Command: /home/biocbuild/bbs-3.14-bioc/R/bin/R CMD build --keep-empty-dirs --no-resave-data AlphaBeta
StartedAt: 2022-01-16 04:00:50 -0500 (Sun, 16 Jan 2022)
EndedAt: 2022-01-16 04:05:05 -0500 (Sun, 16 Jan 2022)
EllapsedTime: 254.1 seconds
RetCode: 0
Status:   OK  
PackageFile: AlphaBeta_1.8.0.tar.gz
PackageFileSize: 2.467 MiB

Command output

##############################################################################
##############################################################################
###
### Running command:
###
###   /home/biocbuild/bbs-3.14-bioc/R/bin/R CMD build --keep-empty-dirs --no-resave-data AlphaBeta
###
##############################################################################
##############################################################################


* checking for file ‘AlphaBeta/DESCRIPTION’ ... OK
* preparing ‘AlphaBeta’:
* checking DESCRIPTION meta-information ... OK
* installing the package to build vignettes
* creating vignettes ... OK
* checking for LF line-endings in source and make files and shell scripts
* checking for empty or unneeded directories
Omitted ‘LazyData’ from DESCRIPTION
* building ‘AlphaBeta_1.8.0.tar.gz’