Back to Multiple platform build/check report for BioC 3.14
[A]BCDEFGHIJKLMNOPQRSTUVWXYZ

This page was generated on 2022-01-17 13:05:54 -0500 (Mon, 17 Jan 2022).

HostnameOSArch (*)R versionInstalled pkgs
nebbiolo2Linux (Ubuntu 20.04.4 LTS)x86_644.1.2 (2021-11-01) -- "Bird Hippie" 4328
tokay2Windows Server 2012 R2 Standardx644.1.2 (2021-11-01) -- "Bird Hippie" 4077
machv2macOS 10.14.6 Mojavex86_644.1.2 (2021-11-01) -- "Bird Hippie" 4138
Click on any hostname to see more info about the system (e.g. compilers)      (*) as reported by 'uname -p', except on Windows and Mac OS X

INSTALL results for ASGSCA on tokay2


To the developers/maintainers of the ASGSCA package:
- Please allow up to 24 hours (and sometimes 48 hours) for your latest push to git@git.bioconductor.org:packages/ASGSCA.git to
reflect on this report. See How and When does the builder pull? When will my changes propagate? here for more information.
- Make sure to use the following settings in order to reproduce any error or warning you see on this page.

raw results

Package 87/2083HostnameOS / ArchINSTALLBUILDCHECKBUILD BIN
ASGSCA 1.28.0  (landing page)
Hela Romdhani
Snapshot Date: 2022-01-16 01:55:05 -0500 (Sun, 16 Jan 2022)
git_url: https://git.bioconductor.org/packages/ASGSCA
git_branch: RELEASE_3_14
git_last_commit: a84d4c2
git_last_commit_date: 2021-10-26 12:16:38 -0500 (Tue, 26 Oct 2021)
nebbiolo2Linux (Ubuntu 20.04.4 LTS) / x86_64  OK    OK    OK  UNNEEDED, same version is already published
tokay2Windows Server 2012 R2 Standard / x64  OK    OK    OK    OK  UNNEEDED, same version is already published
machv2macOS 10.14.6 Mojave / x86_64  OK    OK    OK    OK  UNNEEDED, same version is already published

Summary

Package: ASGSCA
Version: 1.28.0
Command: C:\cygwin\bin\curl.exe -O http://155.52.207.166/BBS/3.14/bioc/src/contrib/ASGSCA_1.28.0.tar.gz && rm -rf ASGSCA.buildbin-libdir && mkdir ASGSCA.buildbin-libdir && C:\Users\biocbuild\bbs-3.14-bioc\R\bin\R.exe CMD INSTALL --merge-multiarch --build --library=ASGSCA.buildbin-libdir ASGSCA_1.28.0.tar.gz && C:\Users\biocbuild\bbs-3.14-bioc\R\bin\R.exe CMD INSTALL ASGSCA_1.28.0.zip && rm ASGSCA_1.28.0.tar.gz ASGSCA_1.28.0.zip
StartedAt: 2022-01-16 04:17:04 -0500 (Sun, 16 Jan 2022)
EndedAt: 2022-01-16 04:17:31 -0500 (Sun, 16 Jan 2022)
EllapsedTime: 26.9 seconds
RetCode: 0
Status:   OK  

Command output

##############################################################################
##############################################################################
###
### Running command:
###
###   C:\cygwin\bin\curl.exe -O http://155.52.207.166/BBS/3.14/bioc/src/contrib/ASGSCA_1.28.0.tar.gz && rm -rf ASGSCA.buildbin-libdir && mkdir ASGSCA.buildbin-libdir && C:\Users\biocbuild\bbs-3.14-bioc\R\bin\R.exe CMD INSTALL --merge-multiarch --build --library=ASGSCA.buildbin-libdir ASGSCA_1.28.0.tar.gz && C:\Users\biocbuild\bbs-3.14-bioc\R\bin\R.exe CMD INSTALL ASGSCA_1.28.0.zip && rm ASGSCA_1.28.0.tar.gz ASGSCA_1.28.0.zip
###
##############################################################################
##############################################################################


  % Total    % Received % Xferd  Average Speed   Time    Time     Time  Current
                                 Dload  Upload   Total   Spent    Left  Speed

  0     0    0     0    0     0      0      0 --:--:-- --:--:-- --:--:--     0
100  612k  100  612k    0     0  3262k      0 --:--:-- --:--:-- --:--:-- 3274k

install for i386

* installing *source* package 'ASGSCA' ...
** using staged installation
** R
** data
** inst
** byte-compile and prepare package for lazy loading
** help
*** installing help indices
  converting help for package 'ASGSCA'
    finding HTML links ... done
    ASGSCA-package                          html  
    B0                                      html  
    GSCA                                    html  
    GSCAestim                               html  
    GenPhen                                 html  
    QCAHS                                   html  
    ResQCAHS                                html  
    W0                                      html  
** building package indices
** installing vignettes
** testing if installed package can be loaded from temporary location
** testing if installed package can be loaded from final location
** testing if installed package keeps a record of temporary installation path

install for x64

* installing *source* package 'ASGSCA' ...
** testing if installed package can be loaded
* MD5 sums
packaged installation of 'ASGSCA' as ASGSCA_1.28.0.zip
* DONE (ASGSCA)
* installing to library 'C:/Users/biocbuild/bbs-3.14-bioc/R/library'
package 'ASGSCA' successfully unpacked and MD5 sums checked