Back to Multiple platform build/check report for BioC 3.14
[A]BCDEFGHIJKLMNOPQRSTUVWXYZ

This page was generated on 2022-01-24 13:05:53 -0500 (Mon, 24 Jan 2022).

HostnameOSArch (*)R versionInstalled pkgs
nebbiolo2Linux (Ubuntu 20.04.4 LTS)x86_644.1.2 (2021-11-01) -- "Bird Hippie" 4329
tokay2Windows Server 2012 R2 Standardx644.1.2 (2021-11-01) -- "Bird Hippie" 4080
machv2macOS 10.14.6 Mojavex86_644.1.2 (2021-11-01) -- "Bird Hippie" 4141
Click on any hostname to see more info about the system (e.g. compilers)      (*) as reported by 'uname -p', except on Windows and Mac OS X

CHECK results for ARRmNormalization on tokay2


To the developers/maintainers of the ARRmNormalization package:
- Please allow up to 24 hours (and sometimes 48 hours) for your latest push to git@git.bioconductor.org:packages/ARRmNormalization.git to
reflect on this report. See How and When does the builder pull? When will my changes propagate? here for more information.
- Make sure to use the following settings in order to reproduce any error or warning you see on this page.

raw results

Package 83/2083HostnameOS / ArchINSTALLBUILDCHECKBUILD BIN
ARRmNormalization 1.34.0  (landing page)
Jean-Philippe Fortin
Snapshot Date: 2022-01-23 01:55:04 -0500 (Sun, 23 Jan 2022)
git_url: https://git.bioconductor.org/packages/ARRmNormalization
git_branch: RELEASE_3_14
git_last_commit: e84ffab
git_last_commit_date: 2021-10-26 12:07:00 -0500 (Tue, 26 Oct 2021)
nebbiolo2Linux (Ubuntu 20.04.4 LTS) / x86_64  OK    OK    OK  UNNEEDED, same version is already published
tokay2Windows Server 2012 R2 Standard / x64  OK    OK    OK    OK  UNNEEDED, same version is already published
machv2macOS 10.14.6 Mojave / x86_64  OK    OK    OK    OK  UNNEEDED, same version is already published

Summary

Package: ARRmNormalization
Version: 1.34.0
Command: C:\Users\biocbuild\bbs-3.14-bioc\R\bin\R.exe CMD check --force-multiarch --install=check:ARRmNormalization.install-out.txt --library=C:\Users\biocbuild\bbs-3.14-bioc\R\library --no-vignettes --timings ARRmNormalization_1.34.0.tar.gz
StartedAt: 2022-01-23 15:20:53 -0500 (Sun, 23 Jan 2022)
EndedAt: 2022-01-23 15:24:04 -0500 (Sun, 23 Jan 2022)
EllapsedTime: 190.9 seconds
RetCode: 0
Status:   OK  
CheckDir: ARRmNormalization.Rcheck
Warnings: 0

Command output

##############################################################################
##############################################################################
###
### Running command:
###
###   C:\Users\biocbuild\bbs-3.14-bioc\R\bin\R.exe CMD check --force-multiarch --install=check:ARRmNormalization.install-out.txt --library=C:\Users\biocbuild\bbs-3.14-bioc\R\library --no-vignettes --timings ARRmNormalization_1.34.0.tar.gz
###
##############################################################################
##############################################################################


* using log directory 'C:/Users/biocbuild/bbs-3.14-bioc/meat/ARRmNormalization.Rcheck'
* using R version 4.1.2 (2021-11-01)
* using platform: x86_64-w64-mingw32 (64-bit)
* using session charset: ISO8859-1
* using option '--no-vignettes'
* checking for file 'ARRmNormalization/DESCRIPTION' ... OK
* checking extension type ... Package
* this is package 'ARRmNormalization' version '1.34.0'
* checking package namespace information ... OK
* checking package dependencies ... OK
* checking if this is a source package ... OK
* checking if there is a namespace ... OK
* checking for hidden files and directories ... OK
* checking for portable file names ... OK
* checking whether package 'ARRmNormalization' can be installed ... OK
* checking installed package size ... OK
* checking package directory ... OK
* checking 'build' directory ... OK
* checking DESCRIPTION meta-information ... OK
* checking top-level files ... OK
* checking for left-over files ... OK
* checking index information ... OK
* checking package subdirectories ... OK
* checking R files for non-ASCII characters ... OK
* checking R files for syntax errors ... OK
* loading checks for arch 'i386'
** checking whether the package can be loaded ... OK
** checking whether the package can be loaded with stated dependencies ... OK
** checking whether the package can be unloaded cleanly ... OK
** checking whether the namespace can be loaded with stated dependencies ... OK
** checking whether the namespace can be unloaded cleanly ... OK
* loading checks for arch 'x64'
** checking whether the package can be loaded ... OK
** checking whether the package can be loaded with stated dependencies ... OK
** checking whether the package can be unloaded cleanly ... OK
** checking whether the namespace can be loaded with stated dependencies ... OK
** checking whether the namespace can be unloaded cleanly ... OK
* checking dependencies in R code ... NOTE
Package in Depends field not imported from: 'ARRmData'
  These packages need to be imported from (in the NAMESPACE file)
  for when this namespace is loaded but not attached.
* checking S3 generic/method consistency ... OK
* checking replacement functions ... OK
* checking foreign function calls ... OK
* checking R code for possible problems ... NOTE
ARRm.regression: no visible global function definition for 'C'
ARRm.regression: no visible global function definition for 'lm'
getBackground : <anonymous>: no visible global function definition for
  'median'
getQuantiles: no visible global function definition for 'data'
getQuantiles: no visible binding for global variable 'ProbesType'
getQuantiles : <anonymous>: no visible global function definition for
  'quantile'
normalizeARRm: no visible global function definition for 'data'
normalizeARRm: no visible binding for global variable 'ProbesType'
normalizeI: no visible global function definition for 'C'
normalizeI: no visible global function definition for 'median'
normalizeI : <anonymous>: no visible global function definition for
  'quantile'
normalizeI: no visible global function definition for 'smooth.spline'
normalizeI: no visible global function definition for 'predict'
normalizeII: no visible global function definition for 'C'
normalizeII: no visible global function definition for 'median'
normalizeII : <anonymous>: no visible global function definition for
  'quantile'
normalizeII: no visible global function definition for 'smooth.spline'
normalizeII: no visible global function definition for 'predict'
positionPlots: no visible global function definition for 'pdf'
positionPlots: no visible global function definition for 'axis'
positionPlots: no visible global function definition for 'abline'
positionPlots: no visible global function definition for 'dev.off'
quantilePlots: no visible global function definition for 'pdf'
quantilePlots: no visible global function definition for 'points'
quantilePlots: no visible global function definition for 'abline'
quantilePlots: no visible global function definition for 'lm'
quantilePlots: no visible global function definition for 'dev.off'
Undefined global functions or variables:
  C ProbesType abline axis data dev.off lm median pdf points predict
  quantile smooth.spline
Consider adding
  importFrom("grDevices", "dev.off", "pdf")
  importFrom("graphics", "abline", "axis", "points")
  importFrom("stats", "C", "lm", "median", "predict", "quantile",
             "smooth.spline")
  importFrom("utils", "data")
to your NAMESPACE file.
* checking Rd files ... OK
* checking Rd metadata ... OK
* checking Rd cross-references ... OK
* checking for missing documentation entries ... OK
* checking for code/documentation mismatches ... OK
* checking Rd \usage sections ... OK
* checking Rd contents ... OK
* checking for unstated dependencies in examples ... OK
* checking contents of 'data' directory ... OK
* checking data for non-ASCII characters ... OK
* checking data for ASCII and uncompressed saves ... OK
* checking files in 'vignettes' ... OK
* checking examples ...
** running examples for arch 'i386' ... OK
Examples with CPU (user + system) or elapsed time > 5s
                 user system elapsed
normalizeARRm   24.01   2.82   26.92
getCoefficients 13.69   0.83   15.17
quantilePlots   12.14   0.83   12.97
getQuantiles    11.41   1.36   12.77
positionPlots   11.83   0.50   12.33
** running examples for arch 'x64' ... OK
Examples with CPU (user + system) or elapsed time > 5s
                 user system elapsed
normalizeARRm   22.22   3.30   25.52
getCoefficients 12.17   1.10   13.27
quantilePlots   10.62   0.94   11.56
getQuantiles     9.27   1.18   10.45
positionPlots    9.97   0.45   10.46
* checking for unstated dependencies in vignettes ... OK
* checking package vignettes in 'inst/doc' ... OK
* checking running R code from vignettes ... SKIPPED
* checking re-building of vignette outputs ... SKIPPED
* checking PDF version of manual ... OK
* DONE

Status: 2 NOTEs
See
  'C:/Users/biocbuild/bbs-3.14-bioc/meat/ARRmNormalization.Rcheck/00check.log'
for details.



Installation output

ARRmNormalization.Rcheck/00install.out

##############################################################################
##############################################################################
###
### Running command:
###
###   C:\cygwin\bin\curl.exe -O http://155.52.207.166/BBS/3.14/bioc/src/contrib/ARRmNormalization_1.34.0.tar.gz && rm -rf ARRmNormalization.buildbin-libdir && mkdir ARRmNormalization.buildbin-libdir && C:\Users\biocbuild\bbs-3.14-bioc\R\bin\R.exe CMD INSTALL --merge-multiarch --build --library=ARRmNormalization.buildbin-libdir ARRmNormalization_1.34.0.tar.gz && C:\Users\biocbuild\bbs-3.14-bioc\R\bin\R.exe CMD INSTALL ARRmNormalization_1.34.0.zip && rm ARRmNormalization_1.34.0.tar.gz ARRmNormalization_1.34.0.zip
###
##############################################################################
##############################################################################


  % Total    % Received % Xferd  Average Speed   Time    Time     Time  Current
                                 Dload  Upload   Total   Spent    Left  Speed

  0     0    0     0    0     0      0      0 --:--:-- --:--:-- --:--:--     0
 85  825k   85  706k    0     0  2315k      0 --:--:-- --:--:-- --:--:-- 2316k
100  825k  100  825k    0     0  2452k      0 --:--:-- --:--:-- --:--:-- 2456k

install for i386

* installing *source* package 'ARRmNormalization' ...
** using staged installation
** R
** data
** byte-compile and prepare package for lazy loading
** help
*** installing help indices
  converting help for package 'ARRmNormalization'
    finding HTML links ... done
    ARRmNormalization-internal              html  
    ARRmNormalization-package               html  
    ProbesType                              html  
    getBackground                           html  
    getCoefficients                         html  
    getDesignInfo                           html  
    getQuantiles                            html  
    normalizeARRm                           html  
    positionPlots                           html  
    quantilePlots                           html  
** building package indices
** installing vignettes
** testing if installed package can be loaded from temporary location
** testing if installed package can be loaded from final location
** testing if installed package keeps a record of temporary installation path

install for x64

* installing *source* package 'ARRmNormalization' ...
** testing if installed package can be loaded
* MD5 sums
packaged installation of 'ARRmNormalization' as ARRmNormalization_1.34.0.zip
* DONE (ARRmNormalization)
* installing to library 'C:/Users/biocbuild/bbs-3.14-bioc/R/library'
package 'ARRmNormalization' successfully unpacked and MD5 sums checked

Tests output


Example timings

ARRmNormalization.Rcheck/examples_i386/ARRmNormalization-Ex.timings

nameusersystemelapsed
ProbesType0.940.030.97
getBackground0.040.000.11
getCoefficients13.69 0.8315.17
getDesignInfo000
getQuantiles11.41 1.3612.77
normalizeARRm24.01 2.8226.92
positionPlots11.83 0.5012.33
quantilePlots12.14 0.8312.97

ARRmNormalization.Rcheck/examples_x64/ARRmNormalization-Ex.timings

nameusersystemelapsed
ProbesType0.840.030.87
getBackground0.030.000.03
getCoefficients12.17 1.1013.27
getDesignInfo000
getQuantiles 9.27 1.1810.45
normalizeARRm22.22 3.3025.52
positionPlots 9.97 0.4510.46
quantilePlots10.62 0.9411.56