Back to Multiple platform build/check report for BioC 3.14
[A]BCDEFGHIJKLMNOPQRSTUVWXYZ

This page was generated on 2022-01-14 13:05:59 -0500 (Fri, 14 Jan 2022).

HostnameOSArch (*)R versionInstalled pkgs
nebbiolo2Linux (Ubuntu 20.04.4 LTS)x86_644.1.2 (2021-11-01) -- "Bird Hippie" 4327
tokay2Windows Server 2012 R2 Standardx644.1.2 (2021-11-01) -- "Bird Hippie" 4076
machv2macOS 10.14.6 Mojavex86_644.1.2 (2021-11-01) -- "Bird Hippie" 4137
Click on any hostname to see more info about the system (e.g. compilers)      (*) as reported by 'uname -p', except on Windows and Mac OS X

INSTALL results for ANCOMBC on tokay2


To the developers/maintainers of the ANCOMBC package:
- Please allow up to 24 hours (and sometimes 48 hours) for your latest push to git@git.bioconductor.org:packages/ANCOMBC.git to
reflect on this report. See How and When does the builder pull? When will my changes propagate? here for more information.
- Make sure to use the following settings in order to reproduce any error or warning you see on this page.

raw results

Package 53/2083HostnameOS / ArchINSTALLBUILDCHECKBUILD BIN
ANCOMBC 1.4.0  (landing page)
Huang Lin
Snapshot Date: 2022-01-13 01:55:04 -0500 (Thu, 13 Jan 2022)
git_url: https://git.bioconductor.org/packages/ANCOMBC
git_branch: RELEASE_3_14
git_last_commit: b9a7fb1
git_last_commit_date: 2021-10-26 13:02:30 -0500 (Tue, 26 Oct 2021)
nebbiolo2Linux (Ubuntu 20.04.4 LTS) / x86_64  OK    OK    OK  UNNEEDED, same version is already published
tokay2Windows Server 2012 R2 Standard / x64  OK    OK    OK    OK  UNNEEDED, same version is already published
machv2macOS 10.14.6 Mojave / x86_64  OK    OK    OK    OK  UNNEEDED, same version is already published

Summary

Package: ANCOMBC
Version: 1.4.0
Command: C:\cygwin\bin\curl.exe -O http://155.52.207.166/BBS/3.14/bioc/src/contrib/ANCOMBC_1.4.0.tar.gz && rm -rf ANCOMBC.buildbin-libdir && mkdir ANCOMBC.buildbin-libdir && C:\Users\biocbuild\bbs-3.14-bioc\R\bin\R.exe CMD INSTALL --merge-multiarch --build --library=ANCOMBC.buildbin-libdir ANCOMBC_1.4.0.tar.gz && C:\Users\biocbuild\bbs-3.14-bioc\R\bin\R.exe CMD INSTALL ANCOMBC_1.4.0.zip && rm ANCOMBC_1.4.0.tar.gz ANCOMBC_1.4.0.zip
StartedAt: 2022-01-13 06:00:44 -0500 (Thu, 13 Jan 2022)
EndedAt: 2022-01-13 06:01:54 -0500 (Thu, 13 Jan 2022)
EllapsedTime: 70.0 seconds
RetCode: 0
Status:   OK  

Command output

##############################################################################
##############################################################################
###
### Running command:
###
###   C:\cygwin\bin\curl.exe -O http://155.52.207.166/BBS/3.14/bioc/src/contrib/ANCOMBC_1.4.0.tar.gz && rm -rf ANCOMBC.buildbin-libdir && mkdir ANCOMBC.buildbin-libdir && C:\Users\biocbuild\bbs-3.14-bioc\R\bin\R.exe CMD INSTALL --merge-multiarch --build --library=ANCOMBC.buildbin-libdir ANCOMBC_1.4.0.tar.gz && C:\Users\biocbuild\bbs-3.14-bioc\R\bin\R.exe CMD INSTALL ANCOMBC_1.4.0.zip && rm ANCOMBC_1.4.0.tar.gz ANCOMBC_1.4.0.zip
###
##############################################################################
##############################################################################


  % Total    % Received % Xferd  Average Speed   Time    Time     Time  Current
                                 Dload  Upload   Total   Spent    Left  Speed

  0     0    0     0    0     0      0      0 --:--:-- --:--:-- --:--:--     0
100 17339  100 17339    0     0   207k      0 --:--:-- --:--:-- --:--:--  209k

install for i386

* installing *source* package 'ANCOMBC' ...
** using staged installation
** R
** inst
** byte-compile and prepare package for lazy loading
** help
Loading required namespace: ANCOMBC
*** installing help indices
  converting help for package 'ANCOMBC'
    finding HTML links ... done
    ancombc                                 html  
** building package indices
** installing vignettes
** testing if installed package can be loaded from temporary location
** testing if installed package can be loaded from final location
** testing if installed package keeps a record of temporary installation path

install for x64

* installing *source* package 'ANCOMBC' ...
** testing if installed package can be loaded
* MD5 sums
packaged installation of 'ANCOMBC' as ANCOMBC_1.4.0.zip
* DONE (ANCOMBC)
* installing to library 'C:/Users/biocbuild/bbs-3.14-bioc/R/library'
package 'ANCOMBC' successfully unpacked and MD5 sums checked