Back to Multiple platform build/check report for BioC 3.14
[A]BCDEFGHIJKLMNOPQRSTUVWXYZ

This page was generated on 2022-01-14 13:05:57 -0500 (Fri, 14 Jan 2022).

HostnameOSArch (*)R versionInstalled pkgs
nebbiolo2Linux (Ubuntu 20.04.4 LTS)x86_644.1.2 (2021-11-01) -- "Bird Hippie" 4327
tokay2Windows Server 2012 R2 Standardx644.1.2 (2021-11-01) -- "Bird Hippie" 4076
machv2macOS 10.14.6 Mojavex86_644.1.2 (2021-11-01) -- "Bird Hippie" 4137
Click on any hostname to see more info about the system (e.g. compilers)      (*) as reported by 'uname -p', except on Windows and Mac OS X

BUILD BIN results for ABSSeq on tokay2


To the developers/maintainers of the ABSSeq package:
- Please allow up to 24 hours (and sometimes 48 hours) for your latest push to git@git.bioconductor.org:packages/ABSSeq.git to
reflect on this report. See How and When does the builder pull? When will my changes propagate? here for more information.
- Make sure to use the following settings in order to reproduce any error or warning you see on this page.

raw results

Package 10/2083HostnameOS / ArchINSTALLBUILDCHECKBUILD BIN
ABSSeq 1.48.0  (landing page)
Wentao Yang
Snapshot Date: 2022-01-13 01:55:04 -0500 (Thu, 13 Jan 2022)
git_url: https://git.bioconductor.org/packages/ABSSeq
git_branch: RELEASE_3_14
git_last_commit: b237c96
git_last_commit_date: 2021-10-26 12:12:45 -0500 (Tue, 26 Oct 2021)
nebbiolo2Linux (Ubuntu 20.04.4 LTS) / x86_64  OK    OK    OK  UNNEEDED, same version is already published
tokay2Windows Server 2012 R2 Standard / x64  OK    OK    OK    OK  UNNEEDED, same version is already published
machv2macOS 10.14.6 Mojave / x86_64  OK    OK    OK    OK  UNNEEDED, same version is already published

Summary

Package: ABSSeq
Version: 1.48.0
Command: rm -rf ABSSeq.buildbin-libdir && mkdir ABSSeq.buildbin-libdir && C:\Users\biocbuild\bbs-3.14-bioc\R\bin\R.exe CMD INSTALL --merge-multiarch --build --library=ABSSeq.buildbin-libdir ABSSeq_1.48.0.tar.gz
StartedAt: 2022-01-14 04:56:34 -0500 (Fri, 14 Jan 2022)
EndedAt: 2022-01-14 04:57:00 -0500 (Fri, 14 Jan 2022)
EllapsedTime: 25.5 seconds
RetCode: 0
Status:   OK  
PackageFile: ABSSeq_1.48.0.zip
PackageFileSize: 1.305 MiB

Command output

##############################################################################
##############################################################################
###
### Running command:
###
###   rm -rf ABSSeq.buildbin-libdir && mkdir ABSSeq.buildbin-libdir && C:\Users\biocbuild\bbs-3.14-bioc\R\bin\R.exe CMD INSTALL --merge-multiarch --build --library=ABSSeq.buildbin-libdir ABSSeq_1.48.0.tar.gz
###
##############################################################################
##############################################################################



install for i386

* installing *source* package 'ABSSeq' ...
** using staged installation
** R
** data
** inst
** byte-compile and prepare package for lazy loading
** help
*** installing help indices
  converting help for package 'ABSSeq'
    finding HTML links ... done
    ABSDataSet                              html  
    ABSSeq                                  html  
    ABSSeqlm                                html  
    LevelstoNormFC                          html  
    ReplaceOutliersByMAD                    html  
    aFoldcomplexDesign                      html  
    callDEs                                 html  
    callParameter                           html  
    callParameterwithoutReplicates          html  
    counts                                  html  
    estimateSizeFactorsForMatrix            html  
    excounts                                html  
    genAFold                                html  
    groups                                  html  
    maxRates                                html  
    minRates                                html  
    minimalDispersion                       html  
    normMethod                              html  
    normalFactors                           html  
    paired                                  html  
    plotDifftoBase                          html  
    qtotalNormalized                        html  
    results                                 html  
    sFactors                                html  
    simuN5                                  html  
** building package indices
** installing vignettes
** testing if installed package can be loaded from temporary location
** testing if installed package can be loaded from final location
** testing if installed package keeps a record of temporary installation path

install for x64

* installing *source* package 'ABSSeq' ...
** testing if installed package can be loaded
* MD5 sums
packaged installation of 'ABSSeq' as ABSSeq_1.48.0.zip
* DONE (ABSSeq)