Index of /checkResults/3.13/bioc-LATEST/genphen/raw-results/tokay2
Name
Last modified
Size
Description
Parent Directory
-
install-out.txt
16-Oct-2021 04:06
2.5K
install-summary.dcf
16-Oct-2021 04:06
640
buildsrc-out.txt
16-Oct-2021 04:06
3.4K
buildsrc-summary.dcf
16-Oct-2021 04:06
374