Name | Last modified | Size | Description | |
---|---|---|---|---|
Parent Directory | - | |||
buildsrc-summary.dcf | 16-Oct-2021 04:06 | 471 | ||
checksrc-summary.dcf | 16-Oct-2021 04:06 | 475 | ||
buildbin-summary.dcf | 16-Oct-2021 04:06 | 557 | ||
install-summary.dcf | 16-Oct-2021 04:06 | 667 | ||
buildsrc-out.txt | 16-Oct-2021 04:06 | 920 | ||
buildbin-out.txt | 16-Oct-2021 04:06 | 4.3K | ||
install-out.txt | 16-Oct-2021 04:06 | 5.1K | ||
checksrc-out.txt | 16-Oct-2021 04:06 | 5.5K | ||