Name | Last modified | Size | Description | |
---|---|---|---|---|
Parent Directory | - | |||
install-summary.dcf | 16-Oct-2021 04:06 | 634 | ||
install-out.txt | 16-Oct-2021 04:06 | 3.3K | ||
checksrc-summary.dcf | 16-Oct-2021 04:06 | 464 | ||
checksrc-out.txt | 16-Oct-2021 04:06 | 5.3K | ||
buildsrc-summary.dcf | 16-Oct-2021 04:06 | 457 | ||
buildsrc-out.txt | 16-Oct-2021 04:06 | 844 | ||
buildbin-summary.dcf | 16-Oct-2021 04:06 | 536 | ||
buildbin-out.txt | 16-Oct-2021 04:06 | 2.7K | ||