Index of /checkResults/3.13/bioc-LATEST/TFutils/raw-results/tokay2
Name
Last modified
Size
Description
Parent Directory
-
buildsrc-summary.dcf
16-Oct-2021 04:06
374
buildsrc-out.txt
16-Oct-2021 04:06
2.0K
install-summary.dcf
16-Oct-2021 04:06
640
install-out.txt
16-Oct-2021 04:06
4.3K