Index of /checkResults/3.13/bioc-LATEST/Sushi/raw-results/tokay2
Name
Last modified
Size
Description
Parent Directory
-
install-summary.dcf
16-Oct-2021 04:06
623
install-out.txt
16-Oct-2021 04:06
3.7K
buildsrc-summary.dcf
16-Oct-2021 04:06
368
buildsrc-out.txt
16-Oct-2021 04:06
1.3K