Index of /checkResults/3.13/bioc-LATEST/RNASeqR/raw-results/nebbiolo1
Name
Last modified
Size
Description
Parent Directory
-
install-summary.dcf
16-Oct-2021 04:05
259
install-out.txt
16-Oct-2021 04:05
955
buildsrc-summary.dcf
16-Oct-2021 04:05
333
buildsrc-out.txt
16-Oct-2021 04:05
2.0K