Index of /checkResults/3.13/bioc-LATEST/HCABrowser/raw-results/nebbiolo1
Name
Last modified
Size
Description
Parent Directory
-
install-summary.dcf
16-Oct-2021 04:05
263
install-out.txt
16-Oct-2021 04:05
1.2K
buildsrc-summary.dcf
16-Oct-2021 04:05
337
buildsrc-out.txt
16-Oct-2021 04:05
1.5K