Back to Build/check report for BioC 3.12 experimental data |
|
This page was generated on 2021-05-06 14:10:15 -0400 (Thu, 06 May 2021).
To the developers/maintainers of the TCGAMethylation450k package: Please make sure to use the following settings in order to reproduce any error or warning you see on this page. |
Package 369/398 | Hostname | OS / Arch | INSTALL | BUILD | CHECK | ||||||||
TCGAMethylation450k 1.26.0 (landing page) Sean Davis
| malbec1 | Linux (Ubuntu 18.04.5 LTS) / x86_64 | OK | OK | OK | ||||||||
Package: TCGAMethylation450k |
Version: 1.26.0 |
Command: /home/biocbuild/bbs-3.12-bioc/R/bin/R CMD build --keep-empty-dirs --no-resave-data TCGAMethylation450k |
StartedAt: 2021-05-06 11:28:49 -0400 (Thu, 06 May 2021) |
EndedAt: 2021-05-06 11:29:09 -0400 (Thu, 06 May 2021) |
EllapsedTime: 19.8 seconds |
RetCode: 0 |
Status: OK |
PackageFile: TCGAMethylation450k_1.26.0.tar.gz |
PackageFileSize: 81.02 MiB |
############################################################################## ############################################################################## ### ### Running command: ### ### /home/biocbuild/bbs-3.12-bioc/R/bin/R CMD build --keep-empty-dirs --no-resave-data TCGAMethylation450k ### ############################################################################## ############################################################################## * checking for file ‘TCGAMethylation450k/DESCRIPTION’ ... OK * preparing ‘TCGAMethylation450k’: * checking DESCRIPTION meta-information ... OK * checking for LF line-endings in source and make files and shell scripts * checking for empty or unneeded directories * building ‘TCGAMethylation450k_1.26.0.tar.gz’