Back to Multiple platform build/check report for BioC 3.11 |
|
This page was generated on 2020-10-17 11:56:26 -0400 (Sat, 17 Oct 2020).
TO THE DEVELOPERS/MAINTAINERS OF THE deltaGseg PACKAGE: Please make sure to use the following settings in order to reproduce any error or warning you see on this page. |
Package 449/1905 | Hostname | OS / Arch | INSTALL | BUILD | CHECK | BUILD BIN | ||||||
deltaGseg 1.28.0 Diana Low
| malbec2 | Linux (Ubuntu 18.04.4 LTS) / x86_64 | OK | OK | OK | |||||||
tokay2 | Windows Server 2012 R2 Standard / x64 | [ OK ] | OK | OK | OK | |||||||
machv2 | macOS 10.14.6 Mojave / x86_64 | OK | OK | OK | OK |
Package: deltaGseg |
Version: 1.28.0 |
Command: C:\Users\biocbuild\bbs-3.11-bioc\R\bin\R.exe --arch x64 CMD INSTALL --no-multiarch deltaGseg |
StartedAt: 2020-10-16 17:49:00 -0400 (Fri, 16 Oct 2020) |
EndedAt: 2020-10-16 17:50:42 -0400 (Fri, 16 Oct 2020) |
EllapsedTime: 102.0 seconds |
RetCode: 0 |
Status: OK |
############################################################################## ############################################################################## ### ### Running command: ### ### C:\Users\biocbuild\bbs-3.11-bioc\R\bin\R.exe --arch x64 CMD INSTALL --no-multiarch deltaGseg ### ############################################################################## ############################################################################## * installing to library 'C:/Users/biocbuild/bbs-3.11-bioc/R/library' * installing *source* package 'deltaGseg' ... ** using staged installation ** R ** data ** inst ** byte-compile and prepare package for lazy loading ** help *** installing help indices converting help for package 'deltaGseg' finding HTML links ... done SegSeriesTrajectories-class html SegTrajectories-class html Trajectories-class html TransTrajectories-class html chooseBreaks-methods html chooseBreaks html clusterPV-methods html clusterPV html clusterSegments-methods html clusterSegments html deltaGseg-package html denoiseSegments-methods html denoiseSegments html diagnosticPlots-methods html diagnosticPlots html getAVD-methods html getAVD html getBreaks-methods html getBreaks html getIntervals-methods html getIntervals html getSegments-methods html getSegments html getTNames-methods html getTNames html getTraj-methods html getTraj html parseTraj html plot-methods html plotDiff-methods html plotDiff html pvals html finding level-2 HTML links ... done show-methods html simtraj html simtraj.tr html simtraj.tr2 html splitTraj-methods html splitTraj html traj1 html traj1.denoise html traj1.ss html traj1.tr html transformSeries-methods html transformSeries html ** building package indices ** installing vignettes 'deltaGseg.Rnw' ** testing if installed package can be loaded from temporary location ** testing if installed package can be loaded from final location ** testing if installed package keeps a record of temporary installation path * DONE (deltaGseg) Making 'packages.html' ... done