Back to Multiple platform build/check report for BioC 3.10 |
|
This page was generated on 2020-04-15 12:36:01 -0400 (Wed, 15 Apr 2020).
Package 970/1823 | Hostname | OS / Arch | INSTALL | BUILD | CHECK | BUILD BIN | ||||||
mBPCR 1.40.0 P.M.V. Rancoita
| malbec1 | Linux (Ubuntu 18.04.4 LTS) / x86_64 | OK | OK | WARNINGS | |||||||
tokay1 | Windows Server 2012 R2 Standard / x64 | OK | OK | WARNINGS | OK | |||||||
merida1 | OS X 10.11.6 El Capitan / x86_64 | OK | OK | WARNINGS | [ OK ] |
Package: mBPCR |
Version: 1.40.0 |
Command: rm -rf mBPCR.buildbin-libdir && mkdir mBPCR.buildbin-libdir && /Users/biocbuild/BBS/utils/build-universal.sh mBPCR_1.40.0.tar.gz /Library/Frameworks/R.framework/Versions/Current/Resources/bin/R mBPCR.buildbin-libdir |
StartedAt: 2020-04-15 07:57:54 -0400 (Wed, 15 Apr 2020) |
EndedAt: 2020-04-15 07:58:40 -0400 (Wed, 15 Apr 2020) |
EllapsedTime: 46.1 seconds |
RetCode: 0 |
Status: OK |
PackageFile: mBPCR_1.40.0.tgz |
PackageFileSize: 755.3 KiB |
############################################################################## ############################################################################## ### ### Running command: ### ### rm -rf mBPCR.buildbin-libdir && mkdir mBPCR.buildbin-libdir && /Users/biocbuild/BBS/utils/build-universal.sh mBPCR_1.40.0.tar.gz /Library/Frameworks/R.framework/Versions/Current/Resources/bin/R mBPCR.buildbin-libdir ### ############################################################################## ############################################################################## >>>>>>> >>>>>>> INSTALLATION WITH 'R CMD INSTALL --preclean --no-multiarch --library=mBPCR.buildbin-libdir mBPCR_1.40.0.tar.gz' >>>>>>> * installing *source* package ‘mBPCR’ ... ** using staged installation ** R ** data *** moving datasets to lazyload DB ** inst ** byte-compile and prepare package for lazy loading Warning message: Package 'SNPchip' is deprecated and will be removed from Bioconductor version 3.11 ** help *** installing help indices ** building package indices ** installing vignettes ** testing if installed package can be loaded from temporary location Warning: Package 'SNPchip' is deprecated and will be removed from Bioconductor version 3.11 ** testing if installed package can be loaded from final location Warning: Package 'SNPchip' is deprecated and will be removed from Bioconductor version 3.11 ** testing if installed package keeps a record of temporary installation path * DONE (mBPCR)