Back to Multiple platform build/check report for BioC 3.10 |
|
This page was generated on 2020-04-15 12:07:23 -0400 (Wed, 15 Apr 2020).
Package 526/1823 | Hostname | OS / Arch | INSTALL | BUILD | CHECK | BUILD BIN | ||||||
ensemblVEP 1.28.0 Bioconductor Package Maintainer
| malbec1 | Linux (Ubuntu 18.04.4 LTS) / x86_64 | OK | [ TIMEOUT ] | skipped | |||||||
tokay1 | Windows Server 2012 R2 Standard / x64 | ...NOT SUPPORTED... | ||||||||||
merida1 | OS X 10.11.6 El Capitan / x86_64 | OK | OK | TIMEOUT | OK |
Package: ensemblVEP |
Version: 1.28.0 |
Command: /home/biocbuild/bbs-3.10-bioc/R/bin/R CMD build --keep-empty-dirs --no-resave-data ensemblVEP |
StartedAt: 2020-04-14 20:26:51 -0400 (Tue, 14 Apr 2020) |
EndedAt: 2020-04-14 21:06:51 -0400 (Tue, 14 Apr 2020) |
EllapsedTime: 2400.2 seconds |
RetCode: None |
Status: TIMEOUT |
PackageFile: None |
PackageFileSize: NA |
############################################################################## ############################################################################## ### ### Running command: ### ### /home/biocbuild/bbs-3.10-bioc/R/bin/R CMD build --keep-empty-dirs --no-resave-data ensemblVEP ### ############################################################################## ############################################################################## * checking for file ‘ensemblVEP/DESCRIPTION’ ... OK * preparing ‘ensemblVEP’: * checking DESCRIPTION meta-information ... OK * installing the package to build vignettes * creating vignettes ...