Back to Multiple platform build/check report for BioC 3.10
A[B]CDEFGHIJKLMNOPQRSTUVWXYZ

BUILD report for Biostrings on tokay1

This page was generated on 2020-04-15 12:16:52 -0400 (Wed, 15 Apr 2020).

Package 176/1823HostnameOS / ArchINSTALLBUILDCHECKBUILD BIN
Biostrings 2.54.0
H. Pag├Ęs
Snapshot Date: 2020-04-14 16:46:13 -0400 (Tue, 14 Apr 2020)
URL: https://git.bioconductor.org/packages/Biostrings
Branch: RELEASE_3_10
Last Commit: b8982e7
Last Changed Date: 2019-10-29 13:07:27 -0400 (Tue, 29 Oct 2019)
malbec1 Linux (Ubuntu 18.04.4 LTS) / x86_64  OK  OK  WARNINGS UNNEEDED, same version exists in internal repository
tokay1 Windows Server 2012 R2 Standard / x64  OK [ OK ] WARNINGS  OK UNNEEDED, same version exists in internal repository
merida1 OS X 10.11.6 El Capitan / x86_64  OK  OK  WARNINGS  OK UNNEEDED, same version exists in internal repository

Summary

Package: Biostrings
Version: 2.54.0
Command: chmod a+r Biostrings -R && C:\Users\biocbuild\bbs-3.10-bioc\R\bin\R.exe CMD build --keep-empty-dirs --no-resave-data Biostrings
StartedAt: 2020-04-14 20:46:50 -0400 (Tue, 14 Apr 2020)
EndedAt: 2020-04-14 20:49:07 -0400 (Tue, 14 Apr 2020)
EllapsedTime: 137.1 seconds
RetCode: 0
Status:  OK  
PackageFile: Biostrings_2.54.0.tar.gz
PackageFileSize: 12.1 MiB

Command output

##############################################################################
##############################################################################
###
### Running command:
###
###   chmod a+r Biostrings -R && C:\Users\biocbuild\bbs-3.10-bioc\R\bin\R.exe CMD build --keep-empty-dirs --no-resave-data Biostrings
###
##############################################################################
##############################################################################


* checking for file 'Biostrings/DESCRIPTION' ... OK
* preparing 'Biostrings':
* checking DESCRIPTION meta-information ... OK
* cleaning src
* installing the package to build vignettes
* creating vignettes ... OK
* cleaning src
* checking for LF line-endings in source and make files and shell scripts
* checking for empty or unneeded directories
* looking to see if a 'data/datalist' file should be added
* building 'Biostrings_2.54.0.tar.gz'