Back to Multiple platform build/check report for BioC 3.10
A[B]CDEFGHIJKLMNOPQRSTUVWXYZ

Multiple platform build/check report for BioC 3.10

Results for Biostrings

This page was generated on 2020-04-15 12:00:30 -0400 (Wed, 15 Apr 2020).

Package 176/1823HostnameOS / ArchINSTALLBUILDCHECKBUILD BIN
Biostrings 2.54.0
H. Pag├Ęs
Snapshot Date: 2020-04-14 16:46:13 -0400 (Tue, 14 Apr 2020)
URL: https://git.bioconductor.org/packages/Biostrings
Branch: RELEASE_3_10
Last Commit: b8982e7
Last Changed Date: 2019-10-29 13:07:27 -0400 (Tue, 29 Oct 2019)
malbec1 Linux (Ubuntu 18.04.4 LTS) / x86_64  OK  OK  WARNINGS UNNEEDED, same version exists in internal repository
tokay1 Windows Server 2012 R2 Standard / x64  OK  OK  WARNINGS  OK UNNEEDED, same version exists in internal repository
merida1 OS X 10.11.6 El Capitan / x86_64  OK  OK  WARNINGS  OK UNNEEDED, same version exists in internal repository