Back to Multiple platform build/check report for BioC 3.10
A[B]CDEFGHIJKLMNOPQRSTUVWXYZ

BUILD report for BSgenome on tokay1

This page was generated on 2020-04-15 12:17:39 -0400 (Wed, 15 Apr 2020).

Package 202/1823HostnameOS / ArchINSTALLBUILDCHECKBUILD BIN
BSgenome 1.54.0
H. Pag├Ęs
Snapshot Date: 2020-04-14 16:46:13 -0400 (Tue, 14 Apr 2020)
URL: https://git.bioconductor.org/packages/BSgenome
Branch: RELEASE_3_10
Last Commit: 58524c9
Last Changed Date: 2019-10-29 13:07:43 -0400 (Tue, 29 Oct 2019)
malbec1 Linux (Ubuntu 18.04.4 LTS) / x86_64  OK  OK  WARNINGS UNNEEDED, same version exists in internal repository
tokay1 Windows Server 2012 R2 Standard / x64  OK [ OK ] ERROR  OK 
merida1 OS X 10.11.6 El Capitan / x86_64  OK  OK  WARNINGS  OK UNNEEDED, same version exists in internal repository

Summary

Package: BSgenome
Version: 1.54.0
Command: chmod a+r BSgenome -R && C:\Users\biocbuild\bbs-3.10-bioc\R\bin\R.exe CMD build --keep-empty-dirs --no-resave-data BSgenome
StartedAt: 2020-04-14 20:53:09 -0400 (Tue, 14 Apr 2020)
EndedAt: 2020-04-14 20:55:27 -0400 (Tue, 14 Apr 2020)
EllapsedTime: 137.6 seconds
RetCode: 0
Status:  OK  
PackageFile: BSgenome_1.54.0.tar.gz
PackageFileSize: 5.788 MiB

Command output

##############################################################################
##############################################################################
###
### Running command:
###
###   chmod a+r BSgenome -R && C:\Users\biocbuild\bbs-3.10-bioc\R\bin\R.exe CMD build --keep-empty-dirs --no-resave-data BSgenome
###
##############################################################################
##############################################################################


* checking for file 'BSgenome/DESCRIPTION' ... OK
* preparing 'BSgenome':
* checking DESCRIPTION meta-information ... OK
* installing the package to build vignettes
* creating vignettes ... OK
* checking for LF line-endings in source and make files and shell scripts
* checking for empty or unneeded directories
WARNING: directory 'BSgenome/inst/pkgtemplates/BSgenome_datapkg/inst/extdata' is empty
WARNING: directory 'BSgenome/inst/pkgtemplates/MaskedBSgenome_datapkg/inst/extdata' is empty
* building 'BSgenome_1.54.0.tar.gz'
Warning in utils::tar(filepath, pkgname, compression = compression, compression_level = 9L,  :
  storing paths of more than 100 bytes is not portable:
  'BSgenome/inst/extdata/GentlemanLab/1000genomes/BSgenome.Hsapiens.1000g.b36female-tools/split_human_b36_female.sh'