TCC 1.6.5 Jianqiang Sun , Tomoaki Nishiyama
Snapshot Date: 2015-04-09 16:20:12 -0700 (Thu, 09 Apr 2015) | URL: https://hedgehog.fhcrc.org/bioconductor/branches/RELEASE_3_0/madman/Rpacks/TCC | Last Changed Rev: 97975 / Revision: 102249 | Last Changed Date: 2015-01-03 18:50:59 -0800 (Sat, 03 Jan 2015) |
| zin1 | Linux (Ubuntu 12.04.4 LTS) / x86_64 | OK | OK | OK | |
moscato1 | Windows Server 2008 R2 Enterprise SP1 (64-bit) / x64 | OK | OK | [ OK ] | OK |
perceval | Mac OS X Snow Leopard (10.6.8) / x86_64 | OK | OK | OK | OK |
oaxaca | Mac OS X Mavericks (10.9.5) / x86_64 | OK | OK | OK | OK |
##############################################################################
##############################################################################
###
### Running command:
###
### rm -rf TCC.buildbin-libdir TCC.Rcheck && mkdir TCC.buildbin-libdir TCC.Rcheck && D:\biocbld\bbs-3.0-bioc\R\bin\R.exe CMD INSTALL --build --merge-multiarch --library=TCC.buildbin-libdir TCC_1.6.5.tar.gz >TCC.Rcheck\00install.out 2>&1 && cp TCC.Rcheck\00install.out TCC-install.out && D:\biocbld\bbs-3.0-bioc\R\bin\R.exe CMD check --library=TCC.buildbin-libdir --install="check:TCC-install.out" --force-multiarch --no-vignettes --timings TCC_1.6.5.tar.gz
###
##############################################################################
##############################################################################
* using log directory 'D:/biocbld/bbs-3.0-bioc/meat/TCC.Rcheck'
* using R version 3.1.3 (2015-03-09)
* using platform: i386-w64-mingw32 (32-bit)
* using session charset: ISO8859-1
* using option '--no-vignettes'
* checking for file 'TCC/DESCRIPTION' ... OK
* checking extension type ... Package
* this is package 'TCC' version '1.6.5'
* checking package namespace information ... OK
* checking package dependencies ... OK
* checking if this is a source package ... OK
* checking if there is a namespace ... OK
* checking for hidden files and directories ... OK
* checking for portable file names ... OK
* checking whether package 'TCC' can be installed ... OK
* checking installed package size ... OK
* checking package directory ... OK
* checking 'build' directory ... OK
* checking DESCRIPTION meta-information ... OK
* checking top-level files ... OK
* checking for left-over files ... OK
* checking index information ... OK
* checking package subdirectories ... OK
* checking R files for non-ASCII characters ... OK
* checking R files for syntax errors ... OK
* loading checks for arch 'i386'
** checking whether the package can be loaded ... OK
** checking whether the package can be loaded with stated dependencies ... OK
** checking whether the package can be unloaded cleanly ... OK
** checking whether the namespace can be loaded with stated dependencies ... OK
** checking whether the namespace can be unloaded cleanly ... OK
* loading checks for arch 'x64'
** checking whether the package can be loaded ... OK
** checking whether the package can be loaded with stated dependencies ... OK
** checking whether the package can be unloaded cleanly ... OK
** checking whether the namespace can be loaded with stated dependencies ... OK
** checking whether the namespace can be unloaded cleanly ... OK
* checking dependencies in R code ... OK
* checking S3 generic/method consistency ... OK
* checking replacement functions ... OK
* checking foreign function calls ... OK
* checking R code for possible problems ... OK
* checking Rd files ... OK
* checking Rd metadata ... OK
* checking Rd cross-references ... OK
* checking for missing documentation entries ... OK
* checking for code/documentation mismatches ... OK
* checking Rd \usage sections ... OK
* checking Rd contents ... OK
* checking for unstated dependencies in examples ... OK
* checking contents of 'data' directory ... OK
* checking data for non-ASCII characters ... OK
* checking data for ASCII and uncompressed saves ... OK
* checking installed files from 'inst/doc' ... OK
* checking files in 'vignettes' ... OK
* checking examples ...
** running examples for arch 'i386' ... [93s] OK
Examples with CPU or elapsed time > 5s
user system elapsed
simulateReadCounts 13.91 0.00 13.92
TCC-class 12.82 0.07 12.89
calcNormFactors 11.90 0.00 11.91
calcAUCValue 11.42 0.00 11.42
plot.TCC 9.32 0.00 9.31
plotFCPseudocolor 8.50 0.00 8.55
** running examples for arch 'x64' ... [104s] OK
Examples with CPU or elapsed time > 5s
user system elapsed
simulateReadCounts 15.87 0.00 15.86
TCC-class 15.78 0.00 15.77
calcAUCValue 12.96 0.00 12.96
calcNormFactors 12.31 0.00 12.31
plotFCPseudocolor 10.18 0.00 10.49
plot.TCC 9.96 0.01 9.97
hypoData_mg 5.15 0.00 5.15
hypoData 5.04 0.00 5.04
* checking for unstated dependencies in tests ... OK
* checking tests ...
** running tests for arch 'i386' ...
Running 'runTests.R' [346s]
[347s] OK
** running tests for arch 'x64' ...
Running 'runTests.R' [368s]
[369s] OK
* checking for unstated dependencies in vignettes ... OK
* checking package vignettes in 'inst/doc' ... OK
* checking running R code from vignettes ... SKIPPED
* checking re-building of vignette outputs ... SKIPPED
* checking PDF version of manual ... OK
* DONE
install for i386
* installing *source* package 'TCC' ...
** R
** data
** inst
** preparing package for lazy loading
Creating a new generic function for 'calcNormFactors' in package 'TCC'
** help
*** installing help indices
** building package indices
** installing vignettes
** testing if installed package can be loaded
install for x64
* installing *source* package 'TCC' ...
** testing if installed package can be loaded
* MD5 sums
packaged installation of 'TCC' as TCC_1.6.5.zip
* DONE (TCC)