DEXSeq 1.12.2 Alejandro Reyes
Snapshot Date: 2015-04-09 16:20:12 -0700 (Thu, 09 Apr 2015) | URL: https://hedgehog.fhcrc.org/bioconductor/branches/RELEASE_3_0/madman/Rpacks/DEXSeq | Last Changed Rev: 99750 / Revision: 102249 | Last Changed Date: 2015-02-24 06:45:35 -0800 (Tue, 24 Feb 2015) |
| zin1 | Linux (Ubuntu 12.04.4 LTS) / x86_64 | OK | OK | OK | |
moscato1 | Windows Server 2008 R2 Enterprise SP1 (64-bit) / x64 | OK | OK | [ OK ] | OK |
perceval | Mac OS X Snow Leopard (10.6.8) / x86_64 | OK | OK | OK | OK |
oaxaca | Mac OS X Mavericks (10.9.5) / x86_64 | OK | OK | OK | OK |
##############################################################################
##############################################################################
###
### Running command:
###
### rm -rf DEXSeq.buildbin-libdir DEXSeq.Rcheck && mkdir DEXSeq.buildbin-libdir DEXSeq.Rcheck && D:\biocbld\bbs-3.0-bioc\R\bin\R.exe CMD INSTALL --build --merge-multiarch --library=DEXSeq.buildbin-libdir DEXSeq_1.12.2.tar.gz >DEXSeq.Rcheck\00install.out 2>&1 && cp DEXSeq.Rcheck\00install.out DEXSeq-install.out && D:\biocbld\bbs-3.0-bioc\R\bin\R.exe CMD check --library=DEXSeq.buildbin-libdir --install="check:DEXSeq-install.out" --force-multiarch --no-vignettes --timings DEXSeq_1.12.2.tar.gz
###
##############################################################################
##############################################################################
* using log directory 'D:/biocbld/bbs-3.0-bioc/meat/DEXSeq.Rcheck'
* using R version 3.1.3 (2015-03-09)
* using platform: i386-w64-mingw32 (32-bit)
* using session charset: ISO8859-1
* using option '--no-vignettes'
* checking for file 'DEXSeq/DESCRIPTION' ... OK
* this is package 'DEXSeq' version '1.12.2'
* checking package namespace information ... OK
* checking package dependencies ... OK
* checking if this is a source package ... OK
* checking if there is a namespace ... OK
* checking for hidden files and directories ... OK
* checking for portable file names ... OK
* checking whether package 'DEXSeq' can be installed ... OK
* checking installed package size ... OK
* checking package directory ... OK
* checking 'build' directory ... OK
* checking DESCRIPTION meta-information ... OK
* checking top-level files ... OK
* checking for left-over files ... OK
* checking index information ... OK
* checking package subdirectories ... OK
* checking R files for non-ASCII characters ... OK
* checking R files for syntax errors ... OK
* loading checks for arch 'i386'
** checking whether the package can be loaded ... OK
** checking whether the package can be loaded with stated dependencies ... OK
** checking whether the package can be unloaded cleanly ... OK
** checking whether the namespace can be loaded with stated dependencies ... OK
** checking whether the namespace can be unloaded cleanly ... OK
* loading checks for arch 'x64'
** checking whether the package can be loaded ... OK
** checking whether the package can be loaded with stated dependencies ... OK
** checking whether the package can be unloaded cleanly ... OK
** checking whether the namespace can be loaded with stated dependencies ... OK
** checking whether the namespace can be unloaded cleanly ... OK
* checking dependencies in R code ... OK
* checking S3 generic/method consistency ... OK
* checking replacement functions ... OK
* checking foreign function calls ... OK
* checking R code for possible problems ... NOTE
DEXSeqDataSet: no visible global function definition for 'DataFrame'
estimateExonFoldChanges: no visible global function definition for
'DataFrame'
show.DEXSeqResults: no visible global function definition for
'DataFrame'
show,DEXSeqResults: no visible global function definition for
'DataFrame'
* checking Rd files ... OK
* checking Rd metadata ... OK
* checking Rd cross-references ... OK
* checking for missing documentation entries ... OK
* checking for code/documentation mismatches ... OK
* checking Rd \usage sections ... OK
* checking Rd contents ... OK
* checking for unstated dependencies in examples ... OK
* checking installed files from 'inst/doc' ... OK
* checking files in 'vignettes' ... OK
* checking examples ...
** running examples for arch 'i386' ... [52s] OK
Examples with CPU or elapsed time > 5s
user system elapsed
DEXSeq 8.36 0 8.42
estimateExonFoldChanges 7.60 0 7.60
perGeneQValue 5.60 0 5.60
methods-gr 5.55 0 5.55
DEXSeqResults 5.25 0 5.24
testForDEU 5.17 0 5.17
** running examples for arch 'x64' ... [60s] OK
Examples with CPU or elapsed time > 5s
user system elapsed
DEXSeq 9.51 0.02 9.53
estimateExonFoldChanges 9.53 0.00 9.53
perGeneQValue 6.08 0.00 6.09
methods-gr 6.00 0.02 6.03
DEXSeqResults 5.71 0.00 5.71
testForDEU 5.59 0.00 5.59
estimateDispersions 5.43 0.00 5.43
* checking for unstated dependencies in vignettes ... OK
* checking package vignettes in 'inst/doc' ... OK
* checking running R code from vignettes ... SKIPPED
* checking re-building of vignette outputs ... SKIPPED
* checking PDF version of manual ... OK
* DONE
NOTE: There was 1 note.
See
'D:/biocbld/bbs-3.0-bioc/meat/DEXSeq.Rcheck/00check.log'
for details.
install for i386
* installing *source* package 'DEXSeq' ...
** R
** inst
** preparing package for lazy loading
** help
*** installing help indices
** building package indices
** installing vignettes
** testing if installed package can be loaded
install for x64
* installing *source* package 'DEXSeq' ...
** testing if installed package can be loaded
* MD5 sums
packaged installation of 'DEXSeq' as DEXSeq_1.12.2.zip
* DONE (DEXSeq)