Back to the "Multiple platform build/check report" |
Package 58/120 | Hostname | OS / Arch | BUILD | CHECK | BUILD BIN | ||||
hapmapsnp6 1.3.6 Benilton Carvalho
| wilson2 | Linux (openSUSE 11.4) / x86_64 | OK | ERROR | |||||
moscato1 | Windows Server 2008 R2 Enterprise SP1 (64-bit) / x64 | OK | ERROR | [ ERROR ] | |||||
pitt | Mac OS X Leopard (10.5.8) / i386 | OK | ERROR | ERROR |
Package: hapmapsnp6 |
Version: 1.3.6 |
Command: rm -rf hapmapsnp6.buildbin-libdir && mkdir hapmapsnp6.buildbin-libdir && D:\biocbld\bbs-2.9-bioc\R\bin\R.exe CMD INSTALL --build --merge-multiarch --library=hapmapsnp6.buildbin-libdir hapmapsnp6_1.3.6.tar.gz |
StartedAt: 2012-03-23 15:29:07 -0700 (Fri, 23 Mar 2012) |
EndedAt: 2012-03-23 15:31:42 -0700 (Fri, 23 Mar 2012) |
EllapsedTime: 155.9 seconds |
RetCode: 1 |
Status: ERROR |
PackageFile: None |
PackageFileSize: NA |
install for i386 ERROR: this R is version 2.14.2, package 'hapmapsnp6' requires R >= 2.15