rsbml 2.11.0 Michael Lawrence
Snapshot Date: 2011-07-06 19:21:50 -0700 (Wed, 06 Jul 2011) | URL: https://hedgehog.fhcrc.org/bioconductor/trunk/madman/Rpacks/rsbml | Last Changed Rev: 54802 / Revision: 56603 | Last Changed Date: 2011-04-13 15:36:43 -0700 (Wed, 13 Apr 2011) |
| wilson2 | Linux (openSUSE 11.4) / x86_64 | OK | OK | |
liverpool | Windows Server 2003 R2 (32-bit) / x64 | OK | OK | OK |
gewurz | Windows Server 2008 R2 Enterprise (64-bit) / x64 | N O T S U P P O R T E D |
moscato1 | Windows Server 2008 R2 Enterprise (64-bit) / x64 | [ ERROR ] | skipped | skipped |
pitt | Mac OS X Leopard (10.5.8) / i386 | OK | WARNINGS | OK |
* checking for file 'rsbml/DESCRIPTION' ... OK
* preparing 'rsbml':
* checking DESCRIPTION meta-information ... OK
* cleaning src
* installing the package to re-build vignettes
-----------------------------------
* installing *source* package 'rsbml' ...
** libs
gcc -I"D:/biocbld/BBS-2˜1.9-B/R/include" -g -D_R_=1 -DUSE_R=1 -I/include -I/include/expat -ID:/biocbld/BBS-2˜1.9-B/R/include -DLIBSBML3 -O3 -Wall -std=gnu99 -mtune=core2 -c StringMap.c -o StringMap.o
StringMap.c:52:32: fatal error: sbml/common/common.h: No such file or directory
compilation terminated.
make: *** [StringMap.o] Error 1
ERROR: compilation failed for package 'rsbml'
* removing 'D:/biocbld/bbs-2.9-bioc/tmpdir/RtmpUznJIG/Rinst180a42a7/rsbml'
-----------------------------------
ERROR: package installation failed