1.5.0Elizabeth Whalen | Linux (SUSE 9.2) | x86_64 | OK | OK | |
Linux (SUSE 10.1) | x86_64 | OK | WARNINGS | |
Linux (SUSE 9.2) | i686 | ERROR | skipped | |
Solaris 2.9 | sparc | ERROR | skipped | |
Windows Server 2003 | x86_64 | [ ERROR ] | skipped | skipped |
Windows Server 2003 | NA | ERROR | skipped | skipped |
Mac OS X (10.4.6) | i686 | ERROR | skipped | |
* checking for file 'iSNetwork/DESCRIPTION' ... OK
* preparing 'iSNetwork':
* checking DESCRIPTION meta-information ... OK
* installing the package to re-build vignettes
installing R.css in D:/biocbld/2.0d/tmpdir/Rinst494463531
---------- Making package iSNetwork ------------
adding build stamp to DESCRIPTION
installing NAMESPACE file and metadata
installing R files
save image
Loading required package: graph
Loading required package: Biobase
Loading required package: tools
Welcome to Bioconductor
Vignettes contain introductory material. To view, type
'openVignette()' or start with 'help(Biobase)'. For details
on reading vignettes, see the openVignette help page.
Loading required package: Rgraphviz
Error: package 'Rgraphviz' could not be loaded
In addition: Warning message:
there is no package called 'Rgraphviz' in: library(pkg, character.only = TRUE, logical = TRUE, lib.loc = lib.loc)
Execution halted
execution of package source for 'iSNetwork' failed
make[2]: *** [D:/biocbld/2.0d/tmpdir/Rinst494463531/iSNetwork/R/iSNetwork] Error 1
make[1]: *** [all] Error 2
make: *** [pkg-iSNetwork] Error 2
*** Installation of iSNetwork failed ***
Removing 'D:/biocbld/2.0d/tmpdir/Rinst494463531/iSNetwork'
ERROR
Installation failed.
Removing 'D:/biocbld/2.0d/tmpdir/Rinst494463531'