Index of /checkResults/release/workflows-LATEST/seqpac/raw-results

[ICO]NameLast modifiedSizeDescription

[DIR]Parent Directory  -  
[   ]info.dcf10-Jul-2024 05:30 265  
[DIR]lconway/12-Jun-2024 05:30 -  
[DIR]merida1/10-Jul-2024 05:30 -  
[DIR]nebbiolo1/10-Jul-2024 05:30 -  
[DIR]palomino3/29-Jun-2024 05:30 -  
[DIR]palomino7/10-Jul-2024 05:30 -