Back to Workflows build report for BioC 3.13

This page was generated on 2021-06-18 15:50:07 -0400 (Fri, 18 Jun 2021).

All results for package csawUsersGuide

To the developers/maintainers of the csawUsersGuide package:
Make sure to use the following settings in order to reproduce any error or warning you see on this page.

raw results

Package 7/29HostnameOS / ArchINSTALLBUILD
csawUsersGuide 1.8.0  (landing page)
Aaron Lun
Snapshot Date: 2021-06-18 08:50:01 -0400 (Fri, 18 Jun 2021)
URL: https://git.bioconductor.org/packages/csawUsersGuide
Branch: RELEASE_3_13
Last Commit: 90917b9
Last Changed Date: 2021-05-19 11:20:01 -0400 (Wed, 19 May 2021)
nebbiolo1Linux (Ubuntu 20.04.2 LTS) / x86_64  OK    OK  UNNEEDED, same version is already published