Back to Workflows build report for BioC 3.12

Workflows build report for BioC 3.12

All results for package annotation

This page was generated on 2021-05-04 15:45:12 -0400 (Tue, 04 May 2021).

Package 1/28HostnameOS / ArchINSTALLBUILD
annotation 1.14.0  (landing page)
Bioconductor Package Maintainer
Snapshot Date: 2021-05-04 09:00:02 -0400 (Tue, 04 May 2021)
URL: https://git.bioconductor.org/packages/annotation
Branch: RELEASE_3_12
Last Commit: d08f0d4
Last Changed Date: 2020-10-27 09:40:33 -0400 (Tue, 27 Oct 2020)
malbec1Linux (Ubuntu 18.04.5 LTS) / x86_64  OK    OK  UNNEEDED, same version exists in internal repository