Index of /checkResults/release/data-experiment-LATEST/simpIntLists/raw-results

[ICO]NameLast modifiedSizeDescription

[DIR]Parent Directory  -  
[   ]info.dcf12-Jul-2024 03:51 290  
[DIR]nebbiolo1/12-Jul-2024 03:51 -