Back to Build/check report for BioC 3.19 experimental data

This page was generated on 2024-06-20 14:51 -0400 (Thu, 20 Jun 2024).

More about nebbiolo1


Hostname: nebbiolo1
OS: Linux (Ubuntu 22.04.3 LTS)
Arch: x86_64
Platform: x86_64-linux-gnu
R version: 4.4.0 (2024-04-24) -- "Puppy Cup"
R environment variables: Renviron.bioc

C compiler

R variable (VAR)Value ('R CMD config <VAR>' output)
CCgcc
CFLAGS-g -O2 -Wall
CPICFLAGS-fpic
Please refer to 'R CMD config -h' for the meaning of these variables

Compiler version ('gcc --version' output):

gcc (Ubuntu 11.4.0-1ubuntu1~22.04) 11.4.0
Copyright (C) 2021 Free Software Foundation, Inc.
This is free software; see the source for copying conditions.  There is NO
warranty; not even for MERCHANTABILITY or FITNESS FOR A PARTICULAR PURPOSE.


C++ compiler

R variable (VAR)Value ('R CMD config <VAR>' output)
CXXg++ -std=gnu++17
CXXFLAGS-g -O2 -Wall
CXXPICFLAGS-fpic
Please refer to 'R CMD config -h' for the meaning of these variables

Compiler version ('g++ -std=gnu++17 --version' output):

g++ (Ubuntu 11.4.0-1ubuntu1~22.04) 11.4.0
Copyright (C) 2021 Free Software Foundation, Inc.
This is free software; see the source for copying conditions.  There is NO
warranty; not even for MERCHANTABILITY or FITNESS FOR A PARTICULAR PURPOSE.


C++11 compiler

R variable (VAR)Value ('R CMD config <VAR>' output)
CXX11g++
CXX11FLAGS-g -O2 -Wall
CXX11PICFLAGS-fpic
CXX11STD-std=gnu++11
Please refer to 'R CMD config -h' for the meaning of these variables

Compiler version ('g++ --version' output):

g++ (Ubuntu 11.4.0-1ubuntu1~22.04) 11.4.0
Copyright (C) 2021 Free Software Foundation, Inc.
This is free software; see the source for copying conditions.  There is NO
warranty; not even for MERCHANTABILITY or FITNESS FOR A PARTICULAR PURPOSE.


C++14 compiler

R variable (VAR)Value ('R CMD config <VAR>' output)
CXX14g++
CXX14FLAGS-g -O2 -Wall
CXX14PICFLAGS-fpic
CXX14STD-std=gnu++14
Please refer to 'R CMD config -h' for the meaning of these variables

Compiler version ('g++ --version' output):

g++ (Ubuntu 11.4.0-1ubuntu1~22.04) 11.4.0
Copyright (C) 2021 Free Software Foundation, Inc.
This is free software; see the source for copying conditions.  There is NO
warranty; not even for MERCHANTABILITY or FITNESS FOR A PARTICULAR PURPOSE.


C++17 compiler

R variable (VAR)Value ('R CMD config <VAR>' output)
CXX17g++
CXX17FLAGS-g -O2 -Wall
CXX17PICFLAGS-fpic
CXX17STD-std=gnu++17
Please refer to 'R CMD config -h' for the meaning of these variables

Compiler version ('g++ --version' output):

g++ (Ubuntu 11.4.0-1ubuntu1~22.04) 11.4.0
Copyright (C) 2021 Free Software Foundation, Inc.
This is free software; see the source for copying conditions.  There is NO
warranty; not even for MERCHANTABILITY or FITNESS FOR A PARTICULAR PURPOSE.


Java

java version ('java --version' output):

openjdk 11.0.23 2024-04-16
OpenJDK Runtime Environment (build 11.0.23+9-post-Ubuntu-1ubuntu122.04.1)
OpenJDK 64-Bit Server VM (build 11.0.23+9-post-Ubuntu-1ubuntu122.04.1, mixed mode, sharing)

Pandoc

pandoc version ('pandoc --version' output):

pandoc 2.7.3
Compiled with pandoc-types 1.17.5.4, texmath 0.11.2.2, skylighting 0.8.1
Default user data directory: /home/biocbuild/.local/share/pandoc or /home/biocbuild/.pandoc
Copyright (C) 2006-2019 John MacFarlane
Web:  http://pandoc.org
This is free software; see the source for copying conditions.
There is no warranty, not even for merchantability or fitness
for a particular purpose.

More information might be added in the future...