Back to Build/check report for BioC 3.13 experimental data
ABCDEFGHIJKL[M]NOPQRSTUVWXYZ

This page was generated on 2021-06-22 16:02:38 -0400 (Tue, 22 Jun 2021).

All results for package msd16s

To the developers/maintainers of the msd16s package:
Make sure to use the following settings in order to reproduce any error or warning you see on this page.

raw results

Package 247/406HostnameOS / ArchINSTALLBUILDCHECK
msd16s 1.12.0  (landing page)
Joseph N. Paulson
Snapshot Date: 2021-06-22 09:30:06 -0400 (Tue, 22 Jun 2021)
URL: https://git.bioconductor.org/packages/msd16s
Branch: RELEASE_3_13
Last Commit: f2d0e1b
Last Changed Date: 2021-05-19 11:47:28 -0400 (Wed, 19 May 2021)
malbec2Linux (Ubuntu 20.04.2 LTS) / x86_64  OK    OK    OK  UNNEEDED, same version is already published