Back to Build/check report for BioC 3.13 experimental data
ABCDEFGHIJK[L]MNOPQRSTUVWXYZ

This page was generated on 2021-06-19 15:59:19 -0400 (Sat, 19 Jun 2021).

All results for package leukemiasEset

To the developers/maintainers of the leukemiasEset package:
Make sure to use the following settings in order to reproduce any error or warning you see on this page.

raw results

Package 203/406HostnameOS / ArchINSTALLBUILDCHECK
leukemiasEset 1.28.0  (landing page)
Sara Aibar
Snapshot Date: 2021-06-19 09:30:06 -0400 (Sat, 19 Jun 2021)
URL: https://git.bioconductor.org/packages/leukemiasEset
Branch: RELEASE_3_13
Last Commit: be5a689
Last Changed Date: 2021-05-19 11:40:08 -0400 (Wed, 19 May 2021)
malbec2Linux (Ubuntu 20.04.2 LTS) / x86_64  OK    OK    OK  UNNEEDED, same version is already published