Back to Build/check report for BioC 3.13 experimental data
ABCDEFG[H]IJKLMNOPQRSTUVWXYZ

All results for package h5vcData

This page was generated on 2021-06-12 16:00:03 -0400 (Sat, 12 Jun 2021).

Package 158/406HostnameOS / ArchINSTALLBUILDCHECK
h5vcData 2.12.0  (landing page)
Paul Theodor Pyl
Snapshot Date: 2021-06-12 09:30:11 -0400 (Sat, 12 Jun 2021)
URL: https://git.bioconductor.org/packages/h5vcData
Branch: RELEASE_3_13
Last Commit: 3b0ab56
Last Changed Date: 2021-05-19 11:44:48 -0400 (Wed, 19 May 2021)
malbec2Linux (Ubuntu 20.04.2 LTS) / x86_64  OK    OK    OK  UNNEEDED, same version is already published