Back to Build/check report for BioC 3.13 experimental data
ABCD[E]FGHIJKLMNOPQRSTUVWXYZ

This page was generated on 2021-06-22 16:02:37 -0400 (Tue, 22 Jun 2021).

All results for package etec16s

To the developers/maintainers of the etec16s package:
Make sure to use the following settings in order to reproduce any error or warning you see on this page.

raw results

Package 117/406HostnameOS / ArchINSTALLBUILDCHECK
etec16s 1.20.0  (landing page)
Joseph N. Paulson
Snapshot Date: 2021-06-22 09:30:06 -0400 (Tue, 22 Jun 2021)
URL: https://git.bioconductor.org/packages/etec16s
Branch: RELEASE_3_13
Last Commit: cfca736
Last Changed Date: 2021-05-19 11:57:04 -0400 (Wed, 19 May 2021)
malbec2Linux (Ubuntu 20.04.2 LTS) / x86_64  OK    OK    OK  UNNEEDED, same version is already published