Back to Build/check report for BioC 3.13 experimental data
ABC[D]EFGHIJKLMNOPQRSTUVWXYZ

This page was generated on 2021-08-03 15:59:52 -0400 (Tue, 03 Aug 2021).

All results for package dsQTL

To the developers/maintainers of the dsQTL package:
Make sure to use the following settings in order to reproduce any error or warning you see on this page.

raw results

Package 107/406HostnameOS / ArchINSTALLBUILDCHECK
dsQTL 0.30.0  (landing page)
VJ Carey
Snapshot Date: 2021-08-03 09:30:07 -0400 (Tue, 03 Aug 2021)
URL: https://git.bioconductor.org/packages/dsQTL
Branch: RELEASE_3_13
Last Commit: 26c11a9
Last Changed Date: 2021-05-19 11:33:34 -0400 (Wed, 19 May 2021)
malbec2Linux (Ubuntu 20.04.2 LTS) / x86_64  ERROR    ERROR  skipped