Back to Build/check report for BioC 3.13 experimental data
ABC[D]EFGHIJKLMNOPQRSTUVWXYZ

This page was generated on 2021-07-29 15:58:41 -0400 (Thu, 29 Jul 2021).

BUILD results for dorothea on malbec2

To the developers/maintainers of the dorothea package:
Make sure to use the following settings in order to reproduce any error or warning you see on this page.

raw results

Package 102/406HostnameOS / ArchINSTALLBUILDCHECK
dorothea 1.4.1  (landing page)
Christian H. Holland
Snapshot Date: 2021-07-29 09:30:06 -0400 (Thu, 29 Jul 2021)
URL: https://git.bioconductor.org/packages/dorothea
Branch: RELEASE_3_13
Last Commit: 477b7ae
Last Changed Date: 2021-06-01 11:06:25 -0400 (Tue, 01 Jun 2021)
malbec2Linux (Ubuntu 20.04.2 LTS) / x86_64  OK    OK    WARNINGS  UNNEEDED, same version is already published

Summary

Package: dorothea
Version: 1.4.1
Command: /home/biocbuild/bbs-3.13-bioc/R/bin/R CMD build --keep-empty-dirs --no-resave-data dorothea
StartedAt: 2021-07-29 11:47:27 -0400 (Thu, 29 Jul 2021)
EndedAt: 2021-07-29 11:49:36 -0400 (Thu, 29 Jul 2021)
EllapsedTime: 129.5 seconds
RetCode: 0
Status:   OK  
PackageFile: dorothea_1.4.1.tar.gz
PackageFileSize: 31.66 MiB

Command output

##############################################################################
##############################################################################
###
### Running command:
###
###   /home/biocbuild/bbs-3.13-bioc/R/bin/R CMD build --keep-empty-dirs --no-resave-data dorothea
###
##############################################################################
##############################################################################


* checking for file ‘dorothea/DESCRIPTION’ ... OK
* preparing ‘dorothea’:
* checking DESCRIPTION meta-information ... OK
* installing the package to build vignettes
* creating vignettes ... OK
* checking for LF line-endings in source and make files and shell scripts
* checking for empty or unneeded directories
* building ‘dorothea_1.4.1.tar.gz’