Index of /checkResults/release/data-experiment-LATEST/davidTiling/raw-results

[ICO]NameLast modifiedSizeDescription

[DIR]Parent Directory  -  
[   ]info.dcf17-Jul-2024 03:51 276  
[DIR]nebbiolo1/17-Jul-2024 03:51 -