Back to Build/check report for BioC 3.12 experimental data
AB[C]DEFGHIJKLMNOPQRSTUVWXYZ

Build/check report for BioC 3.12 experimental data

All results for package curatedCRCData

This page was generated on 2021-05-03 14:09:55 -0400 (Mon, 03 May 2021).

Package 84/398HostnameOS / ArchINSTALLBUILDCHECK
curatedCRCData 2.22.0  (landing page)
Princy Parsana
Snapshot Date: 2021-05-03 09:00:13 -0400 (Mon, 03 May 2021)
URL: https://git.bioconductor.org/packages/curatedCRCData
Branch: RELEASE_3_12
Last Commit: fe88edd
Last Changed Date: 2020-10-27 10:06:49 -0400 (Tue, 27 Oct 2020)
malbec1Linux (Ubuntu 18.04.5 LTS) / x86_64  OK    OK    OK  UNNEEDED, same version exists in internal repository