Back to Build/check report for BioC 3.13 experimental data
AB[C]DEFGHIJKLMNOPQRSTUVWXYZ

All results for package curatedAdipoRNA

This page was generated on 2021-06-12 16:00:03 -0400 (Sat, 12 Jun 2021).

Package 83/406HostnameOS / ArchINSTALLBUILDCHECK
curatedAdipoRNA 1.8.0  (landing page)
Mahmoud Ahmed
Snapshot Date: 2021-06-12 09:30:11 -0400 (Sat, 12 Jun 2021)
URL: https://git.bioconductor.org/packages/curatedAdipoRNA
Branch: RELEASE_3_13
Last Commit: eb7adb8
Last Changed Date: 2021-05-19 12:07:56 -0400 (Wed, 19 May 2021)
malbec2Linux (Ubuntu 20.04.2 LTS) / x86_64  OK    OK    WARNINGS  UNNEEDED, same version is already published