Back to Build/check report for BioC 3.13 experimental data
A[B]CDEFGHIJKLMNOPQRSTUVWXYZ

This page was generated on 2021-06-22 16:02:37 -0400 (Tue, 22 Jun 2021).

All results for package blimaTestingData

To the developers/maintainers of the blimaTestingData package:
Make sure to use the following settings in order to reproduce any error or warning you see on this page.

raw results

Package 32/406HostnameOS / ArchINSTALLBUILDCHECK
blimaTestingData 1.12.0  (landing page)
Vojtech Kulvait
Snapshot Date: 2021-06-22 09:30:06 -0400 (Tue, 22 Jun 2021)
URL: https://git.bioconductor.org/packages/blimaTestingData
Branch: RELEASE_3_13
Last Commit: 24e4e8d
Last Changed Date: 2021-05-19 11:47:15 -0400 (Wed, 19 May 2021)
malbec2Linux (Ubuntu 20.04.2 LTS) / x86_64  OK    OK    OK  UNNEEDED, same version is already published