Back to Build/check report for BioC 3.13 experimental data
ABCDEFGHIJKLMNOPQRSTU[V]WXYZ

This page was generated on 2021-06-19 15:59:20 -0400 (Sat, 19 Jun 2021).

All results for package VariantToolsData

To the developers/maintainers of the VariantToolsData package:
Make sure to use the following settings in order to reproduce any error or warning you see on this page.

raw results

Package 395/406HostnameOS / ArchINSTALLBUILDCHECK
VariantToolsData 1.16.0  (landing page)
Michael Lawrence
Snapshot Date: 2021-06-19 09:30:06 -0400 (Sat, 19 Jun 2021)
URL: https://git.bioconductor.org/packages/VariantToolsData
Branch: RELEASE_3_13
Last Commit: 77f6b94
Last Changed Date: 2021-05-19 12:00:33 -0400 (Wed, 19 May 2021)
malbec2Linux (Ubuntu 20.04.2 LTS) / x86_64  OK    OK    WARNINGS  UNNEEDED, same version is already published