Back to Build/check report for BioC 3.19 experimental data
ABCDEFGHIJKLMNOPQR[S]TUVWXYZ

This page was generated on 2024-06-11 14:51 -0400 (Tue, 11 Jun 2024).

HostnameOSArch (*)R versionInstalled pkgs
nebbiolo1Linux (Ubuntu 22.04.3 LTS)x86_644.4.0 (2024-04-24) -- "Puppy Cup" 4757
Click on any hostname to see more info about the system (e.g. compilers)      (*) as reported by 'uname -p', except on Windows and Mac OS X

All results for package Single.mTEC.Transcriptomes


To the developers/maintainers of the Single.mTEC.Transcriptomes package:
- Use the following Renviron settings to reproduce errors and warnings.
- If 'R CMD check' started to fail recently on the Linux builder(s) over a missing dependency, add the missing dependency to 'Suggests:' in your DESCRIPTION file. See Renviron.bioc for more information.

raw results

Package 367/430HostnameOS / ArchINSTALLBUILDCHECK
Single.mTEC.Transcriptomes 1.32.0  (landing page)
Alejandro Reyes
Snapshot Date: 2024-06-11 07:30 -0400 (Tue, 11 Jun 2024)
git_url: https://git.bioconductor.org/packages/Single.mTEC.Transcriptomes
git_branch: RELEASE_3_19
git_last_commit: 5f3c26d
git_last_commit_date: 2024-04-30 10:45:35 -0400 (Tue, 30 Apr 2024)
nebbiolo1Linux (Ubuntu 22.04.3 LTS) / x86_64  OK    ERROR  skipped