Index of /checkResults/release/data-experiment-LATEST/RnBeads.hg38/raw-results

[ICO]NameLast modifiedSizeDescription

[DIR]Parent Directory  -  
[   ]info.dcf17-May-2024 03:51 277  
[DIR]nebbiolo1/17-May-2024 03:51 -