Back to Build/check report for BioC 3.13 experimental data
ABCDEFGHIJKLMNOPQ[R]STUVWXYZ

This page was generated on 2021-06-22 16:02:38 -0400 (Tue, 22 Jun 2021).

All results for package RNAmodR.Data

To the developers/maintainers of the RNAmodR.Data package:
Make sure to use the following settings in order to reproduce any error or warning you see on this page.

raw results

Package 314/406HostnameOS / ArchINSTALLBUILDCHECK
RNAmodR.Data 1.6.0  (landing page)
Felix G.M. Ernst
Snapshot Date: 2021-06-22 09:30:06 -0400 (Tue, 22 Jun 2021)
URL: https://git.bioconductor.org/packages/RNAmodR.Data
Branch: RELEASE_3_13
Last Commit: 3823c8d
Last Changed Date: 2021-05-19 12:08:38 -0400 (Wed, 19 May 2021)
malbec2Linux (Ubuntu 20.04.2 LTS) / x86_64  OK    OK    OK  UNNEEDED, same version is already published